Workbook

Sheet 附件1
A1: 墨脱县帮扶资金统计及使用情况汇总表 （截至2026年8月30日数据）
A2: 序号 | B2: 地市名称 | C2: 县区名称 | D2: 帮扶资金使用情况（万元） （保留小数点后面2位）
D3: 合计 | E3: 第一阶段 （包括2013年至2015年使用的各级财政专项扶贫资金、援藏资金、定点帮扶资金、地方政府债券资金、社会捐赠资金） | H3: 第二阶段 （包括2016年至2020年使用的各级财政涉农统筹整合资金（专项扶贫资金）、援藏资金、定点帮扶资金、地方政府债券资金、社会捐赠资金） | K3: 第三阶段 （包括2021年至2023年使用的各级财政衔接推进乡村振兴补助资金、涉农统筹整合资金（县级）、援藏资金、定点帮扶资金、地方政府债券资金、社会捐赠资金）
E4: 小计 | F4: 形成资产类 | G4: 未形成资产类 | H4: 小计 | I4: 形成资产类 | J4: 未形成资产类 | K4: 小计 | L4: 形成资产类 | M4: 未形成资产类
A5: 填表说明： | D5: 应为该县（区）所有帮扶资金总数 | E5: 应为该县（区）2013年至2015年帮扶资金小计数 | F5: 帮扶资金在使用过程中形成固定资产、权益类资产、生物性资产、低值易耗品、无形资产等的所有项目实际投入资金总数 | G5: 帮扶资金在使用过程中未形成资产的所有项目实际投入资金总数 | H5: 应为该县（区）2016年至2020年帮扶资金小计数 | I5: 帮扶资金在使用过程中形成固定资产、权益类资产、生物性资产、低值易耗品、无形资产等的所有项目实际投入资金总数 | J5: 帮扶资金在使用过程中未形成资产的所有项目实际投入资金总数 | K5: 应为该县（区）2021年至2023年帮扶资金小计数 | L5: 帮扶资金在使用过程中形成固定资产、权益类资产、生物性资产、低值易耗品、无形资产等的所有项目实际投入资金总数 | M5: 帮扶资金在使用过程中未形成资产的所有项目实际投入资金总数
A6: 1 | B6: 林芝市 | C6: 墨脱县 | D6: =E6+H6+K6 -> 223066.11 | E6: =F6+G6 -> 34086.617 | F6: {=SUM(SUMIFS(附件2!AH:AH,附件2!F:F,"是",附件2!D:D,{2013,2014,2015}))/10000} -> 30662.957 | G6: {=SUM(SUMIFS(附件2!AH:AH,附件2!F:F,"否",附件2!D:D,{2013,2014,2015}))/10000} -> 3423.66 | H6: =I6+J6 -> 109842.24 | I6: {=SUM(SUMIFS(附件2!AH:AH,附件2!F:F,"是",附件2!D:D,{2016,2017,2018,2019,2020}))/10000} -> 99261.302 | J6: {=SUM(SUMIFS(附件2!AH:AH,附件2!F:F,"否",附件2!D:D,{2016,2017,2018,2019,2020}))/10000} -> 10580.94 | K6: =L6+M6 -> 79137.246 | L6: {=SUM(SUMIFS(附件2!AH:AH,附件2!F:F,"是",附件2!D:D,{2021,2022,2023}))/10000} -> 74718.033 | M6: {=SUM(SUMIFS(附件2!AH:AH,附件2!F:F,"否",附件2!D:D,{2021,2022,2023}))/10000} -> 4419.2133
D7: =D6-附件2!AH7/10000 -> 0

Sheet 附件2
A1: 墨脱县帮扶项目清单（2026.08.30） （截至2026年8月30日数据）
A2: 序号 | B2: 地市名称 | C2: 县区名称 | D2: 项目年度 | E2: 项目名称 | F2: 是否为为形成资产项目 | G2: 是否为帮扶产业项目 | H2: 帮扶项目资金批复情况（元） | AG2: 帮扶项目资金使用情况（元）
H3: 合计 | I3: 政策性资金 | AF3: 其他渠道资金（如企业自筹、信贷资金等非政策性资金） | AG3: 合计 | AH3: 政策性资金 | BE3: 其他渠道资金（如企业自筹、信贷资金等非政策性资金）
I4: 政策性资金小计 | J4: 专项扶贫资金 | O4: 统筹整合涉农资金 | T4: 财政衔接推进乡村振兴 补助资金 | Y4: 援藏资金 | AC4: 定点帮扶资金 | AD4: 地方政府债劵资金 | AE4: 社会捐赠（财政入账） | AH4: 政策性资金小计 | AI4: 专项扶贫资金 | AN4: 统筹整合涉农资金 | AS4: 财政衔接推进乡村振兴 补助资金 | AX4: 援藏资金 | BB4: 定点帮扶资金 | BC4: 地方政府债劵资金 | BD4: 社会捐赠（财政入账）
J5: 小计 | K5: 中央 | L5: 省级 | M5: 市级 | N5: 县级 | O5: 小计 | P5: 中央 | Q5: 省级 | R5: 市级 | S5: 县级 | T5: 小计 | U5: 中央 | V5: 省级 | W5: 市级 | X5: 县级 | Y5: 小计 | Z5: 省级 | AA5: 市级 | AB5: 县级 | AI5: 小计 | AJ5: 中央 | AK5: 省级 | AL5: 市级 | AM5: 县级 | AN5: 小计 | AO5: 中央 | AP5: 省级 | AQ5: 市级 | AR5: 县级 | AS5: 小计 | AT5: 中央 | AU5: 省级 | AV5: 市级 | AW5: 县级 | AX5: 小计 | AY5: 省级 | AZ5: 市级 | BA5: 县级
A6: 填表说明： | D6: 以项目批复中批复年度为准 | E6: 以项目批复中项目名称为准 | F6: 在“是/否”中选择 | G6: 在“是/否”中选择 | J6: 以项目批复中项目计划投资总金额为准 （保留小数点后面2位） | AH6: 该数据与附表1形成资产类金额数据一致 | AI6: 以项目竣工决算中核算实际投资金额为准 （保留小数点后面2位）
A7: 合计 | H7: =SUM(H8:H530) -> 2.467003e+09 | I7: =SUM(I8:I530) -> 2.265514e+09 | J7: =SUM(J8:J530) -> 158906600 | K7: =SUM(K8:K530) -> 152275000 | L7: =SUM(L8:L530) -> 3400000 | M7: =SUM(M8:M530) -> 1850000 | N7: =SUM(N8:N530) -> 1381600 | O7: =SUM(O8:O530) -> 7.4269654e+08 | ... BE7: =SUM(BE8:BE530) -> 1.9213827e+08
A8: 1 | B8: 林芝 | C8: 墨脱 | D8: 2013 | E8: 甘登乡、墨脱镇亚让村低产田改造项目（第二批） | F8: 是 | G8: 否 | H8: =I8+AF8 -> 1020000 | I8: =J8+O8+T8+Y8+AC8+AD8+AE8 -> 900000 | J8: =K8+L8+M8+N8 -> 900000 | K8: 900000 | L8: 0 | M8: 0 | N8: 0 | O8: =P8+Q8+R8+S8 -> 0 | P8: 0 | Q8: 0 | R8: 0 | S8: 0 | T8: =U8+V8+W8+X8 -> 0 | U8: 0 | V8: 0 | W8: 0 | X8: 0 | Y8: =Z8+AA8+AB8 -> 0 | Z8: 0 | AA8: 0 | AB8: 0 | AC8: 0 | AD8: 0 | AE8: 0 | AF8: 120000 | AG8: =AH8+BE8 -> 1020000 | AH8: =AI8+AN8+AS8+AX8+BB8+BC8+BD8 -> 900000 | AI8: =AJ8+AK8+AL8+AM8 -> 900000 | AJ8: 900000 | AK8: 0 | AL8: 0 | AM8: 0 | AN8: =AO8+AP8+AQ8+AR8 -> 0 | AO8: 0 | AP8: 0 | AQ8: 0 | AR8: 0 | AS8: =AT8+AU8+AV8+AW8 -> 0 | AT8: 0 | AU8: 0 | AV8: 0 | AW8: 0 | AX8: =AY8+AZ8+BA8 -> 0 | AY8: 0 | AZ8: 0 | BA8: 0 | BB8: 0 | BC8: 0 | BD8: 0 | BE8: 120000
A9: 2 | B9: 林芝 | C9: 墨脱 | D9: 2013 | E9: 背崩乡低收入户养猪项目 | F9: 是 | G9: 是 | H9: =I9+AF9 -> 830000 | I9: =J9+O9+T9+Y9+AC9+AD9+AE9 -> 780000 | J9: =K9+L9+M9+N9 -> 780000 | K9: 780000 | L9: 0 | M9: 0 | N9: 0 | O9: =P9+Q9+R9+S9 -> 0 | P9: 0 | Q9: 0 | R9: 0 | S9: 0 | T9: =U9+V9+W9+X9 -> 0 | U9: 0 | V9: 0 | W9: 0 | X9: 0 | Y9: =Z9+AA9+AB9 -> 0 | Z9: 0 | AA9: 0 | AB9: 0 | AC9: 0 | AD9: 0 | AE9: 0 | AF9: 50000 | AG9: =AH9+BE9 -> 780000 | AH9: =AI9+AN9+AS9+AX9+BB9+BC9+BD9 -> 780000 | AI9: =AJ9+AK9+AL9+AM9 -> 780000 | AJ9: 780000 | AK9: 0 | AL9: 0 | AM9: 0 | AN9: =AO9+AP9+AQ9+AR9 -> 0 | AO9: 0 | AP9: 0 | AQ9: 0 | AR9: 0 | AS9: =AT9+AU9+AV9+AW9 -> 0 | AT9: 0 | AU9: 0 | AV9: 0 | AW9: 0 | AX9: =AY9+AZ9+BA9 -> 0 | AY9: 0 | AZ9: 0 | BA9: 0 | BB9: 0 | BC9: 0 | BD9: 0 | BE9: 0
A10: 3 | B10: 林芝 | C10: 墨脱 | D10: 2013 | E10: 墨脱镇米日村、德兴乡荷扎村、德兴村蜜柚种植项目（第一批） | F10: 是 | G10: 是 | H10: =I10+AF10 -> 600000 | I10: =J10+O10+T10+Y10+AC10+AD10+AE10 -> 550000 | J10: =K10+L10+M10+N10 -> 550000 | K10: 550000 | L10: 0 | M10: 0 | N10: 0 | O10: =P10+Q10+R10+S10 -> 0 | P10: 0 | Q10: 0 | R10: 0 | S10: 0 | T10: =U10+V10+W10+X10 -> 0 | U10: 0 | V10: 0 | W10: 0 | X10: 0 | Y10: =Z10+AA10+AB10 -> 0 | Z10: 0 | AA10: 0 | AB10: 0 | AC10: 0 | AD10: 0 | AE10: 0 | AF10: 50000 | AG10: =AH10+BE10 -> 550000 | AH10: =AI10+AN10+AS10+AX10+BB10+BC10+BD10 -> 550000 | AI10: =AJ10+AK10+AL10+AM10 -> 550000 | AJ10: 550000 | AK10: 0 | AL10: 0 | AM10: 0 | AN10: =AO10+AP10+AQ10+AR10 -> 0 | AO10: 0 | AP10: 0 | AQ10: 0 | AR10: 0 | AS10: =AT10+AU10+AV10+AW10 -> 0 | AT10: 0 | AU10: 0 | AV10: 0 | AW10: 0 | AX10: =AY10+AZ10+BA10 -> 0 | AY10: 0 | AZ10: 0 | BA10: 0 | BB10: 0 | BC10: 0 | BD10: 0 | BE10: 0
A11: 4 | B11: 林芝 | C11: 墨脱 | D11: 2013 | E11: 帮辛乡帮果村农田灌溉水渠项目（第一批） | F11: 是 | G11: 否 | H11: =I11+AF11 -> 580000 | I11: =J11+O11+T11+Y11+AC11+AD11+AE11 -> 540000 | J11: =K11+L11+M11+N11 -> 540000 | K11: 540000 | L11: 0 | M11: 0 | N11: 0 | O11: =P11+Q11+R11+S11 -> 0 | P11: 0 | Q11: 0 | R11: 0 | S11: 0 | T11: =U11+V11+W11+X11 -> 0 | U11: 0 | V11: 0 | W11: 0 | X11: 0 | Y11: =Z11+AA11+AB11 -> 0 | Z11: 0 | AA11: 0 | AB11: 0 | AC11: 0 | AD11: 0 | AE11: 0 | AF11: 40000 | AG11: =AH11+BE11 -> 580000 | AH11: =AI11+AN11+AS11+AX11+BB11+BC11+BD11 -> 540000 | AI11: =AJ11+AK11+AL11+AM11 -> 540000 | AJ11: 540000 | AK11: 0 | AL11: 0 | AM11: 0 | AN11: =AO11+AP11+AQ11+AR11 -> 0 | AO11: 0 | AP11: 0 | AQ11: 0 | AR11: 0 | AS11: =AT11+AU11+AV11+AW11 -> 0 | AT11: 0 | AU11: 0 | AV11: 0 | AW11: 0 | AX11: =AY11+AZ11+BA11 -> 0 | AY11: 0 | AZ11: 0 | BA11: 0 | BB11: 0 | BC11: 0 | BD11: 0 | BE11: 40000
A12: 5 | B12: 林芝 | C12: 墨脱 | D12: 2013 | E12: 帮辛乡西登村石锅加工项目（第三批） | F12: 是 | G12: 是 | H12: =I12+AF12 -> 550000 | I12: =J12+O12+T12+Y12+AC12+AD12+AE12 -> 500000 | J12: =K12+L12+M12+N12 -> 500000 | K12: 500000 | L12: 0 | M12: 0 | N12: 0 | O12: =P12+Q12+R12+S12 -> 0 | P12: 0 | Q12: 0 | R12: 0 | S12: 0 | T12: =U12+V12+W12+X12 -> 0 | U12: 0 | V12: 0 | W12: 0 | X12: 0 | Y12: =Z12+AA12+AB12 -> 0 | Z12: 0 | AA12: 0 | AB12: 0 | AC12: 0 | AD12: 0 | AE12: 0 | AF12: 50000 | AG12: =AH12+BE12 -> 550000 | AH12: =AI12+AN12+AS12+AX12+BB12+BC12+BD12 -> 500000 | AI12: =AJ12+AK12+AL12+AM12 -> 500000 | AJ12: 500000 | AK12: 0 | AL12: 0 | AM12: 0 | AN12: =AO12+AP12+AQ12+AR12 -> 0 | AO12: 0 | AP12: 0 | AQ12: 0 | AR12: 0 | AS12: =AT12+AU12+AV12+AW12 -> 0 | AT12: 0 | AU12: 0 | AV12: 0 | AW12: 0 | AX12: =AY12+AZ12+BA12 -> 0 | AY12: 0 | AZ12: 0 | BA12: 0 | BB12: 0 | BC12: 0 | BD12: 0 | BE12: 50000
A13: 6 | B13: 林芝 | C13: 墨脱 | D13: 2013 | E13: 达木乡珠村蔬菜大棚项目（第一批） | F13: 是 | G13: 是 | H13: =I13+AF13 -> 480000 | I13: =J13+O13+T13+Y13+AC13+AD13+AE13 -> 450000 | J13: =K13+L13+M13+N13 -> 450000 | K13: 450000 | L13: 0 | M13: 0 | N13: 0 | O13: =P13+Q13+R13+S13 -> 0 | P13: 0 | Q13: 0 | R13: 0 | S13: 0 | T13: =U13+V13+W13+X13 -> 0 | U13: 0 | V13: 0 | W13: 0 | X13: 0 | Y13: =Z13+AA13+AB13 -> 0 | Z13: 0 | AA13: 0 | AB13: 0 | AC13: 0 | AD13: 0 | AE13: 0 | AF13: 30000 | AG13: =AH13+BE13 -> 450000 | AH13: =AI13+AN13+AS13+AX13+BB13+BC13+BD13 -> 450000 | AI13: =AJ13+AK13+AL13+AM13 -> 450000 | AJ13: 450000 | AK13: 0 | AL13: 0 | AM13: 0 | AN13: =AO13+AP13+AQ13+AR13 -> 0 | AO13: 0 | AP13: 0 | AQ13: 0 | AR13: 0 | AS13: =AT13+AU13+AV13+AW13 -> 0 | AT13: 0 | AU13: 0 | AV13: 0 | AW13: 0 | AX13: =AY13+AZ13+BA13 -> 0 | AY13: 0 | AZ13: 0 | BA13: 0 | BB13: 0 | BC13: 0 | BD13: 0 | BE13: 0
A14: 7 | B14: 林芝 | C14: 墨脱 | D14: 2013 | E14: 加热萨乡加热萨村木碗加工项目（第一批） | F14: 是 | G14: 是 | H14: =I14+AF14 -> 500000 | I14: =J14+O14+T14+Y14+AC14+AD14+AE14 -> 450000 | J14: =K14+L14+M14+N14 -> 450000 | K14: 450000 | L14: 0 | M14: 0 | N14: 0 | O14: =P14+Q14+R14+S14 -> 0 | P14: 0 | Q14: 0 | R14: 0 | S14: 0 | T14: =U14+V14+W14+X14 -> 0 | U14: 0 | V14: 0 | W14: 0 | X14: 0 | Y14: =Z14+AA14+AB14 -> 0 | Z14: 0 | AA14: 0 | AB14: 0 | AC14: 0 | AD14: 0 | AE14: 0 | AF14: 50000 | AG14: =AH14+BE14 -> 450000 | AH14: =AI14+AN14+AS14+AX14+BB14+BC14+BD14 -> 450000 | AI14: =AJ14+AK14+AL14+AM14 -> 450000 | AJ14: 450000 | AK14: 0 | AL14: 0 | AM14: 0 | AN14: =AO14+AP14+AQ14+AR14 -> 0 | AO14: 0 | AP14: 0 | AQ14: 0 | AR14: 0 | AS14: =AT14+AU14+AV14+AW14 -> 0 | AT14: 0 | AU14: 0 | AV14: 0 | AW14: 0 | AX14: =AY14+AZ14+BA14 -> 0 | AY14: 0 | AZ14: 0 | BA14: 0 | BB14: 0 | BC14: 0 | BD14: 0 | BE14: 0
A15: 8 | B15: 林芝 | C15: 墨脱 | D15: 2013 | E15: 背崩乡地东村汗密农家乐项目（第三批） | F15: 是 | G15: 是 | H15: =I15+AF15 -> 510000 | I15: =J15+O15+T15+Y15+AC15+AD15+AE15 -> 450000 | J15: =K15+L15+M15+N15 -> 450000 | K15: 450000 | L15: 0 | M15: 0 | N15: 0 | O15: =P15+Q15+R15+S15 -> 0 | P15: 0 | Q15: 0 | R15: 0 | S15: 0 | T15: =U15+V15+W15+X15 -> 0 | U15: 0 | V15: 0 | W15: 0 | X15: 0 | Y15: =Z15+AA15+AB15 -> 0 | Z15: 0 | AA15: 0 | AB15: 0 | AC15: 0 | AD15: 0 | AE15: 0 | AF15: 60000 | AG15: =AH15+BE15 -> 450000 | AH15: =AI15+AN15+AS15+AX15+BB15+BC15+BD15 -> 450000 | AI15: =AJ15+AK15+AL15+AM15 -> 450000 | AJ15: 450000 | AK15: 0 | AL15: 0 | AM15: 0 | AN15: =AO15+AP15+AQ15+AR15 -> 0 | AO15: 0 | AP15: 0 | AQ15: 0 | AR15: 0 | AS15: =AT15+AU15+AV15+AW15 -> 0 | AT15: 0 | AU15: 0 | AV15: 0 | AW15: 0 | AX15: =AY15+AZ15+BA15 -> 0 | AY15: 0 | AZ15: 0 | BA15: 0 | BB15: 0 | BC15: 0 | BD15: 0 | BE15: 0
A16: 9 | B16: 林芝 | C16: 墨脱 | D16: 2013 | E16: 德兴乡荷扎村农家乐项目（第三批） | F16: 是 | G16: 是 | H16: =I16+AF16 -> 510000 | I16: =J16+O16+T16+Y16+AC16+AD16+AE16 -> 450000 | J16: =K16+L16+M16+N16 -> 450000 | K16: 450000 | L16: 0 | M16: 0 | N16: 0 | O16: =P16+Q16+R16+S16 -> 0 | P16: 0 | Q16: 0 | R16: 0 | S16: 0 | T16: =U16+V16+W16+X16 -> 0 | U16: 0 | V16: 0 | W16: 0 | X16: 0 | Y16: =Z16+AA16+AB16 -> 0 | Z16: 0 | AA16: 0 | AB16: 0 | AC16: 0 | AD16: 0 | AE16: 0 | AF16: 60000 | AG16: =AH16+BE16 -> 450000 | AH16: =AI16+AN16+AS16+AX16+BB16+BC16+BD16 -> 450000 | AI16: =AJ16+AK16+AL16+AM16 -> 450000 | AJ16: 450000 | AK16: 0 | AL16: 0 | AM16: 0 | AN16: =AO16+AP16+AQ16+AR16 -> 0 | AO16: 0 | AP16: 0 | AQ16: 0 | AR16: 0 | AS16: =AT16+AU16+AV16+AW16 -> 0 | AT16: 0 | AU16: 0 | AV16: 0 | AW16: 0 | AX16: =AY16+AZ16+BA16 -> 0 | AY16: 0 | AZ16: 0 | BA16: 0 | BB16: 0 | BC16: 0 | BD16: 0 | BE16: 0
A17: 10 | B17: 林芝 | C17: 墨脱 | D17: 2013 | E17: 德兴乡德兴村嘎兴农家乐项目（第二批） | F17: 是 | G17: 是 | H17: =I17+AF17 -> 450000 | I17: =J17+O17+T17+Y17+AC17+AD17+AE17 -> 400000 | J17: =K17+L17+M17+N17 -> 400000 | K17: 400000 | L17: 0 | M17: 0 | N17: 0 | O17: =P17+Q17+R17+S17 -> 0 | P17: 0 | Q17: 0 | R17: 0 | S17: 0 | T17: =U17+V17+W17+X17 -> 0 | U17: 0 | V17: 0 | W17: 0 | X17: 0 | Y17: =Z17+AA17+AB17 -> 0 | Z17: 0 | AA17: 0 | AB17: 0 | AC17: 0 | AD17: 0 | AE17: 0 | AF17: 50000 | AG17: =AH17+BE17 -> 400000 | AH17: =AI17+AN17+AS17+AX17+BB17+BC17+BD17 -> 400000 | AI17: =AJ17+AK17+AL17+AM17 -> 400000 | AJ17: 400000 | AK17: 0 | AL17: 0 | AM17: 0 | AN17: =AO17+AP17+AQ17+AR17 -> 0 | AO17: 0 | AP17: 0 | AQ17: 0 | AR17: 0 | AS17: =AT17+AU17+AV17+AW17 -> 0 | AT17: 0 | AU17: 0 | AV17: 0 | AW17: 0 | AX17: =AY17+AZ17+BA17 -> 0 | AY17: 0 | AZ17: 0 | BA17: 0 | BB17: 0 | BC17: 0 | BD17: 0 | BE17: 0
A18: 11 | B18: 林芝 | C18: 墨脱 | D18: 2013 | E18: 墨脱镇玛迪村农家乐项目（第三批） | F18: 是 | G18: 是 | H18: =I18+AF18 -> 400000 | I18: =J18+O18+T18+Y18+AC18+AD18+AE18 -> 350000 | J18: =K18+L18+M18+N18 -> 350000 | K18: 350000 | L18: 0 | M18: 0 | N18: 0 | O18: =P18+Q18+R18+S18 -> 0 | P18: 0 | Q18: 0 | R18: 0 | S18: 0 | T18: =U18+V18+W18+X18 -> 0 | U18: 0 | V18: 0 | W18: 0 | X18: 0 | Y18: =Z18+AA18+AB18 -> 0 | Z18: 0 | AA18: 0 | AB18: 0 | AC18: 0 | AD18: 0 | AE18: 0 | AF18: 50000 | AG18: =AH18+BE18 -> 350000 | AH18: =AI18+AN18+AS18+AX18+BB18+BC18+BD18 -> 350000 | AI18: =AJ18+AK18+AL18+AM18 -> 350000 | AJ18: 350000 | AK18: 0 | AL18: 0 | AM18: 0 | AN18: =AO18+AP18+AQ18+AR18 -> 0 | AO18: 0 | AP18: 0 | AQ18: 0 | AR18: 0 | AS18: =AT18+AU18+AV18+AW18 -> 0 | AT18: 0 | AU18: 0 | AV18: 0 | AW18: 0 | AX18: =AY18+AZ18+BA18 -> 0 | AY18: 0 | AZ18: 0 | BA18: 0 | BB18: 0 | BC18: 0 | BD18: 0 | BE18: 0
A19: 12 | B19: 林芝 | C19: 墨脱 | D19: 2013 | E19: 背崩乡阿苍村馒头加工点项目（财政专项扶持） | F19: 是 | G19: 是 | H19: =I19+AF19 -> 490000 | I19: =J19+O19+T19+Y19+AC19+AD19+AE19 -> 250000 | J19: =K19+L19+M19+N19 -> 250000 | K19: 0 | L19: 0 | M19: 250000 | N19: 0 | O19: =P19+Q19+R19+S19 -> 0 | P19: 0 | Q19: 0 | R19: 0 | S19: 0 | T19: =U19+V19+W19+X19 -> 0 | U19: 0 | V19: 0 | W19: 0 | X19: 0 | Y19: =Z19+AA19+AB19 -> 0 | Z19: 0 | AA19: 0 | AB19: 0 | AC19: 0 | AD19: 0 | AE19: 0 | AF19: 240000 | AG19: =AH19+BE19 -> 250000 | AH19: =AI19+AN19+AS19+AX19+BB19+BC19+BD19 -> 250000 | AI19: =AJ19+AK19+AL19+AM19 -> 250000 | AJ19: 0 | AK19: 0 | AL19: 250000 | AM19: 0 | AN19: =AO19+AP19+AQ19+AR19 -> 0 | AO19: 0 | AP19: 0 | AQ19: 0 | AR19: 0 | AS19: =AT19+AU19+AV19+AW19 -> 0 | AT19: 0 | AU19: 0 | AV19: 0 | AW19: 0 | AX19: =AY19+AZ19+BA19 -> 0 | AY19: 0 | AZ19: 0 | BA19: 0 | BB19: 0 | BC19: 0 | BD19: 0 | BE19: 0
... A65: 58 | B65: 林芝 | C65: 墨脱 | D65: 2015 | E65: 背崩乡格林村综合养殖场建设项目 | F65: 是 | G65: 是 | H65: =I65+AF65 -> 1600000 | I65: =J65+O65+T65+Y65+AC65+AD65+AE65 -> 1600000 | J65: =K65+L65+M65+N65 -> 1600000 | K65: 1000000 | L65: 500000 | M65: 0 | N65: 100000 | O65: =P65+Q65+R65+S65 -> 0 | P65: 0 | Q65: 0 | R65: 0 | S65: 0 | T65: =U65+V65+W65+X65 -> 0 | U65: 0 | V65: 0 | W65: 0 | X65: 0 | Y65: =Z65+AA65+AB65 -> 0 | Z65: 0 | AA65: 0 | AB65: 0 | AC65: 0 | AD65: 0 | AE65: 0 | AF65: 0 | AG65: =AH65+BE65 -> 1581944.4 | AH65: =AI65+AN65+AS65+AX65+BB65+BC65+BD65 -> 1581944.4 | AI65: =AJ65+AK65+AL65+AM65 -> 1581944.4 | AJ65: 1000000 | AK65: 500000 | AL65: 0 | AM65: 81944.4 | AN65: =AO65+AP65+AQ65+AR65 -> 0 | AO65: 0 | AP65: 0 | AQ65: 0 | AR65: 0 | AS65: =AT65+AU65+AV65+AW65 -> 0 | AT65: 0 | AU65: 0 | AV65: 0 | AW65: 0 | AX65: =AY65+AZ65+BA65 -> 0 | AY65: 0 | AZ65: 0 | BA65: 0 | BB65: 0 | BC65: 0 | BD65: 0 | BE65: 0
A66: 59 | B66: 林芝 | C66: 墨脱 | D66: 2015 | E66: 墨脱镇亚让村高山有机茶种植项目 | F66: 是 | G66: 是 | H66: =I66+AF66 -> 1600000 | I66: =J66+O66+T66+Y66+AC66+AD66+AE66 -> 1600000 | J66: =K66+L66+M66+N66 -> 1600000 | K66: 1150000 | L66: 200000 | M66: 0 | N66: 250000 | O66: =P66+Q66+R66+S66 -> 0 | P66: 0 | Q66: 0 | R66: 0 | S66: 0 | T66: =U66+V66+W66+X66 -> 0 | U66: 0 | V66: 0 | W66: 0 | X66: 0 | Y66: =Z66+AA66+AB66 -> 0 | Z66: 0 | AA66: 0 | AB66: 0 | AC66: 0 | AD66: 0 | AE66: 0 | AF66: 0 | AG66: =AH66+BE66 -> 1581758.1 | AH66: =AI66+AN66+AS66+AX66+BB66+BC66+BD66 -> 1581758.1 | AI66: =AJ66+AK66+AL66+AM66 -> 1581758.1 | AJ66: 1150000 | AK66: 200000 | AL66: 0 | AM66: =1581758.1-AJ66-AK66 -> 231758.1 | AN66: =AO66+AP66+AQ66+AR66 -> 0 | AO66: 0 | AP66: 0 | AQ66: 0 | AR66: 0 | AS66: =AT66+AU66+AV66+AW66 -> 0 | AT66: 0 | AU66: 0 | AV66: 0 | AW66: 0 | AX66: =AY66+AZ66+BA66 -> 0 | AY66: 0 | AZ66: 0 | BA66: 0 | BB66: 0 | BC66: 0 | BD66: 0 | BE66: 0
A67: 60 | B67: 林芝 | C67: 墨脱 | D67: 2015 | E67: 墨脱镇亚让村农家乐家具配套项目 | F67: 是 | G67: 是 | H67: =I67+AF67 -> 300000 | I67: =J67+O67+T67+Y67+AC67+AD67+AE67 -> 300000 | J67: =K67+L67+M67+N67 -> 300000 | K67: 250000 | L67: 0 | M67: 0 | N67: 50000 | O67: =P67+Q67+R67+S67 -> 0 | P67: 0 | Q67: 0 | R67: 0 | S67: 0 | T67: =U67+V67+W67+X67 -> 0 | U67: 0 | V67: 0 | W67: 0 | X67: 0 | Y67: =Z67+AA67+AB67 -> 0 | Z67: 0 | AA67: 0 | AB67: 0 | AC67: 0 | AD67: 0 | AE67: 0 | AF67: 0 | AG67: =AH67+BE67 -> 289500 | AH67: =AI67+AN67+AS67+AX67+BB67+BC67+BD67 -> 289500 | AI67: =AJ67+AK67+AL67+AM67 -> 289500 | AJ67: 250000 | AK67: 0 | AL67: 0 | AM67: 39500 | AN67: =AO67+AP67+AQ67+AR67 -> 0 | AO67: 0 | AP67: 0 | AQ67: 0 | AR67: 0 | AS67: =AT67+AU67+AV67+AW67 -> 0 | AT67: 0 | AU67: 0 | AV67: 0 | AW67: 0 | AX67: =AY67+AZ67+BA67 -> 0 | AY67: 0 | AZ67: 0 | BA67: 0 | BB67: 0 | BC67: 0 | BD67: 0 | BE67: 0
A68: 61 | B68: 林芝 | C68: 墨脱 | D68: 2015 | E68: 文朗村、帮果村低产田改造项目 | F68: 是 | G68: 否 | H68: =I68+AF68 -> 420000 | I68: =J68+O68+T68+Y68+AC68+AD68+AE68 -> 400000 | J68: =K68+L68+M68+N68 -> 400000 | K68: 0 | L68: 400000 | M68: 0 | N68: 0 | O68: =P68+Q68+R68+S68 -> 0 | P68: 0 | Q68: 0 | R68: 0 | S68: 0 | T68: =U68+V68+W68+X68 -> 0 | U68: 0 | V68: 0 | W68: 0 | X68: 0 | Y68: =Z68+AA68+AB68 -> 0 | Z68: 0 | AA68: 0 | AB68: 0 | AC68: 0 | AD68: 0 | AE68: 0 | AF68: 20000 | AG68: =AH68+BE68 -> 420000 | AH68: =AI68+AN68+AS68+AX68+BB68+BC68+BD68 -> 400000 | AI68: =AJ68+AK68+AL68+AM68 -> 400000 | AJ68: 0 | AK68: 400000 | AL68: 0 | AM68: 0 | AN68: =AO68+AP68+AQ68+AR68 -> 0 | AO68: 0 | AP68: 0 | AQ68: 0 | AR68: 0 | AS68: =AT68+AU68+AV68+AW68 -> 0 | AT68: 0 | AU68: 0 | AV68: 0 | AW68: 0 | AX68: =AY68+AZ68+BA68 -> 0 | AY68: 0 | AZ68: 0 | BA68: 0 | BB68: 0 | BC68: 0 | BD68: 0 | BE68: 20000
A69: 62 | B69: 林芝 | C69: 墨脱 | D69: 2015 | E69: 背崩乡格林村农家乐家具配套项目 | F69: 是 | G69: 是 | H69: =I69+AF69 -> 200000 | I69: =J69+O69+T69+Y69+AC69+AD69+AE69 -> 200000 | J69: =K69+L69+M69+N69 -> 200000 | K69: 0 | L69: 0 | M69: 0 | N69: 200000 | O69: =P69+Q69+R69+S69 -> 0 | P69: 0 | Q69: 0 | R69: 0 | S69: 0 | T69: =U69+V69+W69+X69 -> 0 | U69: 0 | V69: 0 | W69: 0 | X69: 0 | Y69: =Z69+AA69+AB69 -> 0 | Z69: 0 | AA69: 0 | AB69: 0 | AC69: 0 | AD69: 0 | AE69: 0 | AF69: 0 | AG69: =AH69+BE69 -> 188477 | AH69: =AI69+AN69+AS69+AX69+BB69+BC69+BD69 -> 188477 | AI69: =AJ69+AK69+AL69+AM69 -> 188477 | AJ69: 0 | AK69: 0 | AL69: 0 | AM69: 188477 | AN69: =AO69+AP69+AQ69+AR69 -> 0 | AO69: 0 | AP69: 0 | AQ69: 0 | AR69: 0 | AS69: =AT69+AU69+AV69+AW69 -> 0 | AT69: 0 | AU69: 0 | AV69: 0 | AW69: 0 | AX69: =AY69+AZ69+BA69 -> 0 | AY69: 0 | AZ69: 0 | BA69: 0 | BB69: 0 | BC69: 0 | BD69: 0 | BE69: 0
A70: 63 | B70: 林芝 | C70: 墨脱 | D70: 2015 | E70: 墨脱县2015年扶贫农家乐项目 | F70: 是 | G70: 是 | H70: =I70+AF70 -> 14998400 | I70: =J70+O70+T70+Y70+AC70+AD70+AE70 -> 10000000 | J70: =K70+L70+M70+N70 -> 10000000 | K70: 10000000 | L70: 0 | M70: 0 | N70: 0 | O70: =P70+Q70+R70+S70 -> 0 | P70: 0 | Q70: 0 | R70: 0 | S70: 0 | T70: =U70+V70+W70+X70 -> 0 | U70: 0 | V70: 0 | W70: 0 | X70: 0 | Y70: =Z70+AA70+AB70 -> 0 | Z70: 0 | AA70: 0 | AB70: 0 | AC70: 0 | AD70: 0 | AE70: 0 | AF70: 4998400 | AG70: =AH70+BE70 -> 14420159 | AH70: =AI70+AN70+AS70+AX70+BB70+BC70+BD70 -> 10000000 | AI70: =AJ70+AK70+AL70+AM70 -> 10000000 | AJ70: 10000000 | AK70: 0 | AL70: 0 | AM70: 0 | AN70: =AO70+AP70+AQ70+AR70 -> 0 | AO70: 0 | AP70: 0 | AQ70: 0 | AR70: 0 | AS70: =AT70+AU70+AV70+AW70 -> 0 | AT70: 0 | AU70: 0 | AV70: 0 | AW70: 0 | AX70: =AY70+AZ70+BA70 -> 0 | AY70: 0 | AZ70: 0 | BA70: 0 | BB70: 0 | BC70: 0 | BD70: 0 | BE70: 4420158.7
A71: 64 | B71: 林芝 | C71: 墨脱 | D71: 2015 | E71: 墨脱县墨脱镇玛迪村17座蔬菜大棚建设项目 | F71: 是 | G71: 是 | H71: =I71+AF71 -> 2850000 | I71: =J71+O71+T71+Y71+AC71+AD71+AE71 -> 1900000 | J71: =K71+L71+M71+N71 -> 1900000 | K71: 1900000 | L71: 0 | M71: 0 | N71: 0 | O71: =P71+Q71+R71+S71 -> 0 | P71: 0 | Q71: 0 | R71: 0 | S71: 0 | T71: =U71+V71+W71+X71 -> 0 | U71: 0 | V71: 0 | W71: 0 | X71: 0 | Y71: =Z71+AA71+AB71 -> 0 | Z71: 0 | AA71: 0 | AB71: 0 | AC71: 0 | AD71: 0 | AE71: 0 | AF71: 950000 | AG71: =AH71+BE71 -> 2850000 | AH71: =AI71+AN71+AS71+AX71+BB71+BC71+BD71 -> 1900000 | AI71: =AJ71+AK71+AL71+AM71 -> 1900000 | AJ71: 1900000 | AK71: 0 | AL71: 0 | AM71: 0 | AN71: =AO71+AP71+AQ71+AR71 -> 0 | AO71: 0 | AP71: 0 | AQ71: 0 | AR71: 0 | AS71: =AT71+AU71+AV71+AW71 -> 0 | AT71: 0 | AU71: 0 | AV71: 0 | AW71: 0 | AX71: =AY71+AZ71+BA71 -> 0 | AY71: 0 | AZ71: 0 | BA71: 0 | BB71: 0 | BC71: 0 | BD71: 0 | BE71: 950000
A72: 65 | B72: 林芝 | C72: 墨脱 | D72: 2015 | E72: 帮辛乡肯肯村石锅加工厂项目 | F72: 是 | G72: 是 | H72: =I72+AF72 -> 300000 | I72: =J72+O72+T72+Y72+AC72+AD72+AE72 -> 300000 | J72: =K72+L72+M72+N72 -> 300000 | K72: 300000 | L72: 0 | M72: 0 | N72: 0 | O72: =P72+Q72+R72+S72 -> 0 | P72: 0 | Q72: 0 | R72: 0 | S72: 0 | T72: =U72+V72+W72+X72 -> 0 | U72: 0 | V72: 0 | W72: 0 | X72: 0 | Y72: =Z72+AA72+AB72 -> 0 | Z72: 0 | AA72: 0 | AB72: 0 | AC72: 0 | AD72: 0 | AE72: 0 | AF72: 0 | AG72: =AH72+BE72 -> 300000 | AH72: =AI72+AN72+AS72+AX72+BB72+BC72+BD72 -> 300000 | AI72: =AJ72+AK72+AL72+AM72 -> 300000 | AJ72: 300000 | AK72: 0 | AL72: 0 | AM72: 0 | AN72: =AO72+AP72+AQ72+AR72 -> 0 | AO72: 0 | AP72: 0 | AQ72: 0 | AR72: 0 | AS72: =AT72+AU72+AV72+AW72 -> 0 | AT72: 0 | AU72: 0 | AV72: 0 | AW72: 0 | AX72: =AY72+AZ72+BA72 -> 0 | AY72: 0 | AZ72: 0 | BA72: 0 | BB72: 0 | BC72: 0 | BD72: 0 | BE72: 0
A73: 66 | B73: 林芝 | C73: 墨脱 | D73: 2015 | E73: 墨脱镇高标准农田建设 | F73: 是 | G73: 否 | H73: =I73+AF73 -> 8988400 | I73: =J73+O73+T73+Y73+AC73+AD73+AE73 -> 8000000 | J73: =K73+L73+M73+N73 -> 8000000 | K73: 8000000 | L73: 0 | M73: 0 | N73: 0 | O73: =P73+Q73+R73+S73 -> 0 | P73: 0 | Q73: 0 | R73: 0 | S73: 0 | T73: =U73+V73+W73+X73 -> 0 | U73: 0 | V73: 0 | W73: 0 | X73: 0 | Y73: =Z73+AA73+AB73 -> 0 | Z73: 0 | AA73: 0 | AB73: 0 | AC73: 0 | AD73: 0 | AE73: 0 | AF73: 988400 | AG73: =AH73+BE73 -> 8988400 | AH73: =AI73+AN73+AS73+AX73+BB73+BC73+BD73 -> 8000000 | AI73: =AJ73+AK73+AL73+AM73 -> 8000000 | AJ73: 8000000 | AK73: 0 | AL73: 0 | AM73: 0 | AN73: =AO73+AP73+AQ73+AR73 -> 0 | AO73: 0 | AP73: 0 | AQ73: 0 | AR73: 0 | AS73: =AT73+AU73+AV73+AW73 -> 0 | AT73: 0 | AU73: 0 | AV73: 0 | AW73: 0 | AX73: =AY73+AZ73+BA73 -> 0 | AY73: 0 | AZ73: 0 | BA73: 0 | BB73: 0 | BC73: 0 | BD73: 0 | BE73: 988400
A74: 67 | B74: 林芝 | C74: 墨脱 | D74: 2015 | E74: 自发搬迁回迁群众安置引水项目 | F74: 是 | G74: 否 | H74: =I74+AF74 -> 670000 | I74: =J74+O74+T74+Y74+AC74+AD74+AE74 -> 400000 | J74: =K74+L74+M74+N74 -> 400000 | K74: 0 | L74: 400000 | M74: 0 | N74: 0 | O74: =P74+Q74+R74+S74 -> 0 | P74: 0 | Q74: 0 | R74: 0 | S74: 0 | T74: =U74+V74+W74+X74 -> 0 | U74: 0 | V74: 0 | W74: 0 | X74: 0 | Y74: =Z74+AA74+AB74 -> 0 | Z74: 0 | AA74: 0 | AB74: 0 | AC74: 0 | AD74: 0 | AE74: 0 | AF74: 270000 | AG74: =AH74+BE74 -> 670000 | AH74: =AI74+AN74+AS74+AX74+BB74+BC74+BD74 -> 400000 | AI74: =AJ74+AK74+AL74+AM74 -> 400000 | AJ74: 0 | AK74: 400000 | AL74: 0 | AM74: 0 | AN74: =AO74+AP74+AQ74+AR74 -> 0 | AO74: 0 | AP74: 0 | AQ74: 0 | AR74: 0 | AS74: =AT74+AU74+AV74+AW74 -> 0 | AT74: 0 | AU74: 0 | AV74: 0 | AW74: 0 | AX74: =AY74+AZ74+BA74 -> 0 | AY74: 0 | AZ74: 0 | BA74: 0 | BB74: 0 | BC74: 0 | BD74: 0 | BE74: 270000
A75: 68 | B75: 林芝 | C75: 墨脱 | D75: 2015 | E75: 回迁安置户住房补贴项目 | F75: 否 | G75: 否 | H75: =I75+AF75 -> 5120000 | I75: =J75+O75+T75+Y75+AC75+AD75+AE75 -> 2560000 | J75: =K75+L75+M75+N75 -> 2560000 | K75: 2560000 | L75: 0 | M75: 0 | N75: 0 | O75: =P75+Q75+R75+S75 -> 0 | P75: 0 | Q75: 0 | R75: 0 | S75: 0 | T75: =U75+V75+W75+X75 -> 0 | U75: 0 | V75: 0 | W75: 0 | X75: 0 | Y75: =Z75+AA75+AB75 -> 0 | Z75: 0 | AA75: 0 | AB75: 0 | AC75: 0 | AD75: 0 | AE75: 0 | AF75: 2560000 | AG75: =AH75+BE75 -> 5120000 | AH75: =AI75+AN75+AS75+AX75+BB75+BC75+BD75 -> 2560000 | AI75: =AJ75+AK75+AL75+AM75 -> 2560000 | AJ75: 2560000 | AK75: 0 | AL75: 0 | AM75: 0 | AN75: =AO75+AP75+AQ75+AR75 -> 0 | AO75: 0 | AP75: 0 | AQ75: 0 | AR75: 0 | AS75: =AT75+AU75+AV75+AW75 -> 0 | AT75: 0 | AU75: 0 | AV75: 0 | AW75: 0 | AX75: =AY75+AZ75+BA75 -> 0 | AY75: 0 | AZ75: 0 | BA75: 0 | BB75: 0 | BC75: 0 | BD75: 0 | BE75: 2560000
A76: 69 | B76: 林芝 | C76: 墨脱 | D76: 2015 | E76: 达木乡珠村地质灾害搬迁建房补贴 | F76: 否 | G76: 否 | H76: =I76+AF76 -> 4560000 | I76: =J76+O76+T76+Y76+AC76+AD76+AE76 -> 2280000 | J76: =K76+L76+M76+N76 -> 2280000 | K76: 2280000 | L76: 0 | M76: 0 | N76: 0 | O76: =P76+Q76+R76+S76 -> 0 | P76: 0 | Q76: 0 | R76: 0 | S76: 0 | T76: =U76+V76+W76+X76 -> 0 | U76: 0 | V76: 0 | W76: 0 | X76: 0 | Y76: =Z76+AA76+AB76 -> 0 | Z76: 0 | AA76: 0 | AB76: 0 | AC76: 0 | AD76: 0 | AE76: 0 | AF76: 2280000 | AG76: =AH76+BE76 -> 4560000 | AH76: =AI76+AN76+AS76+AX76+BB76+BC76+BD76 -> 2280000 | AI76: =AJ76+AK76+AL76+AM76 -> 2280000 | AJ76: 2280000 | AK76: 0 | AL76: 0 | AM76: 0 | AN76: =AO76+AP76+AQ76+AR76 -> 0 | AO76: 0 | AP76: 0 | AQ76: 0 | AR76: 0 | AS76: =AT76+AU76+AV76+AW76 -> 0 | AT76: 0 | AU76: 0 | AV76: 0 | AW76: 0 | AX76: =AY76+AZ76+BA76 -> 0 | AY76: 0 | AZ76: 0 | BA76: 0 | BB76: 0 | BC76: 0 | BD76: 0 | BE76: 2280000
A77: 70 | B77: 林芝 | C77: 墨脱 | D77: 2015 | E77: 墨脱县高寒牧区牲畜棚圈建设 | F77: 否 | G77: 否 | H77: =I77+AF77 -> 180000 | I77: =J77+O77+T77+Y77+AC77+AD77+AE77 -> 0 | J77: =K77+L77+M77+N77 -> 0 | K77: 0 | L77: 0 | M77: 0 | N77: 0 | O77: =P77+Q77+R77+S77 -> 0 | P77: 0 | Q77: 0 | R77: 0 | S77: 0 | T77: =U77+V77+W77+X77 -> 0 | U77: 0 | V77: 0 | W77: 0 | X77: 0 | Y77: =Z77+AA77+AB77 -> 0 | Z77: 0 | AA77: 0 | AB77: 0 | AC77: 0 | AD77: 0 | AE77: 0 | AF77: 180000 | AG77: =AH77+BE77 -> 180000 | AH77: =AI77+AN77+AS77+AX77+BB77+BC77+BD77 -> 0 | AI77: =AJ77+AK77+AL77+AM77 -> 0 | AJ77: 0 | AK77: 0 | AL77: 0 | AM77: 0 | AN77: =AO77+AP77+AQ77+AR77 -> 0 | AO77: 0 | AP77: 0 | AQ77: 0 | AR77: 0 | AS77: =AT77+AU77+AV77+AW77 -> 0 | AT77: 0 | AU77: 0 | AV77: 0 | AW77: 0 | AX77: =AY77+AZ77+BA77 -> 0 | AY77: 0 | AZ77: 0 | BA77: 0 | BB77: 0 | BC77: 0 | BD77: 0 | BE77: 180000
A78: 71 | B78: 林芝 | C78: 墨脱 | D78: 2015 | E78: 2015年墨脱县茶叶种植项目 | F78: 是 | G78: 是 | H78: =I78+AF78 -> 1500000 | I78: =J78+O78+T78+Y78+AC78+AD78+AE78 -> 1500000 | J78: =K78+L78+M78+N78 -> 1500000 | K78: 1500000 | L78: 0 | M78: 0 | N78: 0 | O78: =P78+Q78+R78+S78 -> 0 | P78: 0 | Q78: 0 | R78: 0 | S78: 0 | T78: =U78+V78+W78+X78 -> 0 | U78: 0 | V78: 0 | W78: 0 | X78: 0 | Y78: =Z78+AA78+AB78 -> 0 | Z78: 0 | AA78: 0 | AB78: 0 | AC78: 0 | AD78: 0 | AE78: 0 | AF78: 0 | AG78: =AH78+BE78 -> 1500000 | AH78: =AI78+AN78+AS78+AX78+BB78+BC78+BD78 -> 1500000 | AI78: =AJ78+AK78+AL78+AM78 -> 1500000 | AJ78: 1500000 | AK78: 0 | AL78: 0 | AM78: 0 | AN78: =AO78+AP78+AQ78+AR78 -> 0 | AO78: 0 | AP78: 0 | AQ78: 0 | AR78: 0 | AS78: =AT78+AU78+AV78+AW78 -> 0 | AT78: 0 | AU78: 0 | AV78: 0 | AW78: 0 | AX78: =AY78+AZ78+BA78 -> 0 | AY78: 0 | AZ78: 0 | BA78: 0 | BB78: 0 | BC78: 0 | BD78: 0 | BE78: 0
... A82: 75 | B82: 林芝 | C82: 墨脱 | D82: 2016 | E82: 墨脱县茶叶种植物资采购项目 | F82: 是 | G82: 是 | H82: =I82+AF82 -> 1000000 | I82: =J82+O82+T82+Y82+AC82+AD82+AE82 -> 1000000 | J82: =K82+L82+M82+N82 -> 0 | K82: 0 | L82: 0 | M82: 0 | N82: 0 | O82: =P82+Q82+R82+S82 -> 1000000 | P82: 1000000 | Q82: 0 | R82: 0 | S82: 0 | T82: =U82+V82+W82+X82 -> 0 | U82: 0 | V82: 0 | W82: 0 | X82: 0 | Y82: =Z82+AA82+AB82 -> 0 | Z82: 0 | AA82: 0 | AB82: 0 | AC82: 0 | AD82: 0 | AE82: 0 | AF82: 0 | AG82: =AH82+BE82 -> 999560 | AH82: =AI82+AN82+AS82+AX82+BB82+BC82+BD82 -> 999560 | AI82: =AJ82+AK82+AL82+AM82 -> 0 | AJ82: 0 | AK82: 0 | AL82: 0 | AM82: 0 | AN82: =AO82+AP82+AQ82+AR82 -> 999560 | AO82: 999560 | AP82: 0 | AQ82: 0 | AR82: 0 | AS82: =AT82+AU82+AV82+AW82 -> 0 | AT82: 0 | AU82: 0 | AV82: 0 | AW82: 0 | AX82: =AY82+AZ82+BA82 -> 0 | AY82: 0 | AZ82: 0 | BA82: 0 | BB82: 0 | BC82: 0 | BD82: 0 | BE82: 0
A83: 76 | B83: 林芝 | C83: 墨脱 | D83: 2016 | E83: 墨脱县背崩乡西让村养牛项目 | F83: 是 | G83: 是 | H83: =I83+AF83 -> 714700 | I83: =J83+O83+T83+Y83+AC83+AD83+AE83 -> 714700 | J83: =K83+L83+M83+N83 -> 0 | K83: 0 | L83: 0 | M83: 0 | N83: 0 | O83: =P83+Q83+R83+S83 -> 714700 | P83: 0 | Q83: 0 | R83: 714700 | S83: 0 | T83: =U83+V83+W83+X83 -> 0 | U83: 0 | V83: 0 | W83: 0 | X83: 0 | Y83: =Z83+AA83+AB83 -> 0 | Z83: 0 | AA83: 0 | AB83: 0 | AC83: 0 | AD83: 0 | AE83: 0 | AF83: 0 | AG83: =AH83+BE83 -> 714700 | AH83: =AI83+AN83+AS83+AX83+BB83+BC83+BD83 -> 714700 | AI83: =AJ83+AK83+AL83+AM83 -> 0 | AJ83: 0 | AK83: 0 | AL83: 0 | AM83: 0 | AN83: =AO83+AP83+AQ83+AR83 -> 714700 | AO83: 0 | AP83: 0 | AQ83: 714700 | AR83: 0 | AS83: =AT83+AU83+AV83+AW83 -> 0 | AT83: 0 | AU83: 0 | AV83: 0 | AW83: 0 | AX83: =AY83+AZ83+BA83 -> 0 | AY83: 0 | AZ83: 0 | BA83: 0 | BB83: 0 | BC83: 0 | BD83: 0 | BE83: 0 | BF83: 批复金额以概批金额填写，未收集到决算和支出资料，支出金额现以“同概批金额一致”填写
A84: 77 | B84: 林芝 | C84: 墨脱 | D84: 2016 | E84: 墨脱县墨脱镇亚东村扶贫农家乐附属设施项目 | F84: 是 | G84: 是 | H84: =I84+AF84 -> 1200000 | I84: =J84+O84+T84+Y84+AC84+AD84+AE84 -> 1200000 | J84: =K84+L84+M84+N84 -> 0 | K84: 0 | L84: 0 | M84: 0 | N84: 0 | O84: =P84+Q84+R84+S84 -> 1200000 | P84: 1200000 | Q84: 0 | R84: 0 | S84: 0 | T84: =U84+V84+W84+X84 -> 0 | U84: 0 | V84: 0 | W84: 0 | X84: 0 | Y84: =Z84+AA84+AB84 -> 0 | Z84: 0 | AA84: 0 | AB84: 0 | AC84: 0 | AD84: 0 | AE84: 0 | AF84: 0 | AG84: =AH84+BE84 -> 1200000 | AH84: =AI84+AN84+AS84+AX84+BB84+BC84+BD84 -> 1200000 | AI84: =AJ84+AK84+AL84+AM84 -> 0 | AJ84: 0 | AK84: 0 | AL84: 0 | AM84: 0 | AN84: =AO84+AP84+AQ84+AR84 -> 1200000 | AO84: 1200000 | AP84: 0 | AQ84: 0 | AR84: 0 | AS84: =AT84+AU84+AV84+AW84 -> 0 | AT84: 0 | AU84: 0 | AV84: 0 | AW84: 0 | AX84: =AY84+AZ84+BA84 -> 0 | AY84: 0 | AZ84: 0 | BA84: 0 | BB84: 0 | BC84: 0 | BD84: 0 | BE84: 0
A85: 78 | B85: 林芝 | C85: 墨脱 | D85: 2016 | E85: 墨脱县加热萨乡蔬菜大棚建设项目 | F85: 是 | G85: 是 | H85: =I85+AF85 -> 238200 | I85: =J85+O85+T85+Y85+AC85+AD85+AE85 -> 238200 | J85: =K85+L85+M85+N85 -> 0 | K85: 0 | L85: 0 | M85: 0 | N85: 0 | O85: =P85+Q85+R85+S85 -> 238200 | P85: 238200 | Q85: 0 | R85: 0 | S85: 0 | T85: =U85+V85+W85+X85 -> 0 | U85: 0 | V85: 0 | W85: 0 | X85: 0 | Y85: =Z85+AA85+AB85 -> 0 | Z85: 0 | AA85: 0 | AB85: 0 | AC85: 0 | AD85: 0 | AE85: 0 | AF85: 0 | AG85: =AH85+BE85 -> 238200 | AH85: =AI85+AN85+AS85+AX85+BB85+BC85+BD85 -> 238200 | AI85: =AJ85+AK85+AL85+AM85 -> 0 | AJ85: 0 | AK85: 0 | AL85: 0 | AM85: 0 | AN85: =AO85+AP85+AQ85+AR85 -> 238200 | AO85: 238200 | AP85: 0 | AQ85: 0 | AR85: 0 | AS85: =AT85+AU85+AV85+AW85 -> 0 | AT85: 0 | AU85: 0 | AV85: 0 | AW85: 0 | AX85: =AY85+AZ85+BA85 -> 0 | AY85: 0 | AZ85: 0 | BA85: 0 | BB85: 0 | BC85: 0 | BD85: 0 | BE85: 0 | BF85: 批复金额以概批金额填写，未收集到决算和支出资料，支出金额现以“同概批金额一致”填写
A86: 79 | B86: 林芝 | C86: 墨脱 | D86: 2016 | E86: 墨脱县墨脱古街民族特色产品销售点配套项目 | F86: 是 | G86: 是 | H86: =I86+AF86 -> 506900 | I86: =J86+O86+T86+Y86+AC86+AD86+AE86 -> 506900 | J86: =K86+L86+M86+N86 -> 0 | K86: 0 | L86: 0 | M86: 0 | N86: 0 | O86: =P86+Q86+R86+S86 -> 506900 | P86: 506900 | Q86: 0 | R86: 0 | S86: 0 | T86: =U86+V86+W86+X86 -> 0 | U86: 0 | V86: 0 | W86: 0 | X86: 0 | Y86: =Z86+AA86+AB86 -> 0 | Z86: 0 | AA86: 0 | AB86: 0 | AC86: 0 | AD86: 0 | AE86: 0 | AF86: 0 | AG86: =AH86+BE86 -> 506900 | AH86: =AI86+AN86+AS86+AX86+BB86+BC86+BD86 -> 506900 | AI86: =AJ86+AK86+AL86+AM86 -> 0 | AJ86: 0 | AK86: 0 | AL86: 0 | AM86: 0 | AN86: =AO86+AP86+AQ86+AR86 -> 506900 | AO86: 506900 | AP86: 0 | AQ86: 0 | AR86: 0 | AS86: =AT86+AU86+AV86+AW86 -> 0 | AT86: 0 | AU86: 0 | AV86: 0 | AW86: 0 | AX86: =AY86+AZ86+BA86 -> 0 | AY86: 0 | AZ86: 0 | BA86: 0 | BB86: 0 | BC86: 0 | BD86: 0 | BE86: 0
A87: 80 | B87: 林芝 | C87: 墨脱 | D87: 2016 | E87: 墨脱县德兴乡扶贫超市建设项目 | F87: 是 | G87: 是 | H87: =I87+AF87 -> 1108600 | I87: =J87+O87+T87+Y87+AC87+AD87+AE87 -> 1108600 | J87: =K87+L87+M87+N87 -> 0 | K87: 0 | L87: 0 | M87: 0 | N87: 0 | O87: =P87+Q87+R87+S87 -> 1108600 | P87: 1108600 | Q87: 0 | R87: 0 | S87: 0 | T87: =U87+V87+W87+X87 -> 0 | U87: 0 | V87: 0 | W87: 0 | X87: 0 | Y87: =Z87+AA87+AB87 -> 0 | Z87: 0 | AA87: 0 | AB87: 0 | AC87: 0 | AD87: 0 | AE87: 0 | AF87: 0 | AG87: =AH87+BE87 -> 1053754.4 | AH87: =AI87+AN87+AS87+AX87+BB87+BC87+BD87 -> 1053754.4 | AI87: =AJ87+AK87+AL87+AM87 -> 0 | AJ87: 0 | AK87: 0 | AL87: 0 | AM87: 0 | AN87: =AO87+AP87+AQ87+AR87 -> 1053754.4 | AO87: 1053754.4 | AP87: 0 | AQ87: 0 | AR87: 0 | AS87: =AT87+AU87+AV87+AW87 -> 0 | AT87: 0 | AU87: 0 | AV87: 0 | AW87: 0 | AX87: =AY87+AZ87+BA87 -> 0 | AY87: 0 | AZ87: 0 | BA87: 0 | BB87: 0 | BC87: 0 | BD87: 0 | BE87: 0
A88: 81 | B88: 林芝 | C88: 墨脱 | D88: 2016 | E88: 墨脱县加热萨乡新建砂石厂项目 | F88: 是 | G88: 是 | H88: =I88+AF88 -> 1053900 | I88: =J88+O88+T88+Y88+AC88+AD88+AE88 -> 1053900 | J88: =K88+L88+M88+N88 -> 0 | K88: 0 | L88: 0 | M88: 0 | N88: 0 | O88: =P88+Q88+R88+S88 -> 1053900 | P88: 1053900 | Q88: 0 | S88: 0 | T88: =U88+V88+W88+X88 -> 0 | U88: 0 | V88: 0 | W88: 0 | X88: 0 | Y88: =Z88+AA88+AB88 -> 0 | Z88: 0 | AA88: 0 | AB88: 0 | AC88: 0 | AD88: 0 | AE88: 0 | AF88: 0 | AG88: =AH88+BE88 -> 1053900 | AH88: =AI88+AN88+AS88+AX88+BB88+BC88+BD88 -> 1053900 | AI88: =AJ88+AK88+AL88+AM88 -> 0 | AJ88: 0 | AK88: 0 | AL88: 0 | AM88: 0 | AN88: =AO88+AP88+AQ88+AR88 -> 1053900 | AO88: 1053900 | AP88: 0 | AR88: 0 | AS88: =AT88+AU88+AV88+AW88 -> 0 | AT88: 0 | AU88: 0 | AV88: 0 | AW88: 0 | AX88: =AY88+AZ88+BA88 -> 0 | AY88: 0 | AZ88: 0 | BA88: 0 | BB88: 0 | BC88: 0 | BD88: 0 | BE88: 0
...

Sheet 经营类、公益类汇总
A1: 墨脱县帮扶产业项目总台账 （截至2026年8月30日数据）
A2: 项目 编号 | B2: 项目 地市 | C2: 项目 县区 | D2: 项目 年度 | E2: 项目 名称 | F2: 项目申报主体 | G2: 项目实施地点 | H2: 项目主要建设内容 | I2: 计划投资（万元） | L2: 实际投资（万元） | O2: 项目 分类情况 | P2: 项目所属产业分类 | Q2: 产业“四个一批”分类 | R2: 经营性项目“四个一批”分类 | S2: 项目运营情况 | T2: 项目运营模式 | U2: 项目经营主体 | W2: 项目联农带农协议签订情况 | X2: 项目联农带农协议签订时间 | Y2: 项目联农带农协议签订年限 | Z2: 项目联农带农协议主要内容 | AA2: 项目累计分红金额 （元） | AB2: 项目累计带动就业人数 （人） | AC2: 项目归口行业单位名称 | AD2: 所有权 | AE2: 备注
I3: 合计 | J3: 政策性资金 （同表2政策性资金合计数） | K3: 其他渠道资金 （如企业自筹、信贷资金等非政策性资金，同表2） | L3: 合计 | M3: 政策性资金 （同表2政策性资金合计数） | N3: 其他渠道资金 （如企业自筹、信贷资金等非政策性资金，同表2） | U3: 经营主体类别 | V3: 名称 | AF3: 约定收取租金时间
A4: 填表说明：根据指南编码规则编号 | E4: 以项目批复中对应内容为准 | G4: 以项目批复中项目实施地点为准，例：XX乡（镇）XX 村（居） | H4: 以项目竣工决算中项目主要建设内容为准 | I4: 与表2数据一致 （保留小数点后面2位） | L4: 与表2数据一致 （保留小数点后面2位） | O4: 在“经营类、公益类、到户类“中选择 | P4: 在“青稞、小麦、饲料、牦牛、乳、羊、猪、鸡、蜂、鱼虾、藏药、茶、葡萄、苹果、猕猴桃、设施农业、乡村旅游、商贸流通、其他”中选择 | Q4: 在“巩固、升级、盘活、调整”中选择 | R4: 在“巩固、升级、盘活、调整”中选择，仅经营类项目填写 | S4: 根据实际情况填写“是/否” | T4: 在“自主运营、合作运营、委托运营“中选择 | U4: 在“农村集体经济组织、农牧民专业合作社、农户、国企、私企、个体工商户、其他”中选择 | W4: 根据实际情况填写“是/否” | X4: 例：2022.09 | Y4: 例：10年 | Z4: 例：该项目带动建档立卡群众不低于23户79人增收，分红金额不低于500元/人/年 | AC4: 以项目实施内容对应行业单位为准 | AG4: 年度 （不可删除，有公式链接） | AH4: 编号 （不可删除，有公式链接）
A5: =540423&D5&VLOOKUP(P5,{"青稞","01";"小麦","02";"饲料","03";"牦牛","04";"乳","05";"羊","06";"猪","07";"鸡","08";"蜂","09";"鱼虾","10";"藏药","11";"茶","12";"葡萄","13";"苹果","14";"猕猴桃","15";"设施农业","16";"乡村旅游","17";"商贸流通","18";"其他","19"},2,FALSE)&TEXT(COUNTIF($P$5:P5,P5),"000") -> 540423201319001 | B5: 林芝 | C5: 墨脱 | D5: {=INDEX(附件2!$D:$D,MATCH(E5,附件2!$E:$E,0))} -> 2013 | E5: 墨脱镇米日村、德兴乡荷扎村、德兴村蜜柚种植项目（第一批） | F5: 墨脱镇、德兴乡 | G5: 米日村 荷扎村 德兴村 | H5: 种植240亩蜜柚、购置蜜柚苗14400株。 | I5: =J5+K5 -> 60 | J5: =VLOOKUP(E5,附件2!$E$9:$I$410,5,0)/10000 -> 55 | K5: =VLOOKUP(E5,附件2!E:AF,28,0)/10000 -> 5 | L5: =M5+N5 -> 55 | M5: =VLOOKUP(E5,附件2!$E:$BE,30,0)/10000 -> 55 | N5: =VLOOKUP(E5,附件2!$E:$BE,53,0)/10000 -> 0 | O5: 经营类 | P5: 其他 | Q5: 巩固 | R5: 巩固 | S5: 否 | T5: - | U5: - | V5: - | W5: - | X5: - | Y5: - | Z5: - | AA5: - | AB5: 0 | AC5: 墨脱县农业农村局 | AD5: =VLOOKUP(E:E,'附件5-1'!D:P,8,FALSE) -> 米日村股份经济合作社 荷扎村股份经济合作社 德兴村股份经济合作社 | AG5: =D5 -> 2013 | AH5: =A5 -> 540423201319001
A6: =540423&D6&VLOOKUP(P6,{"青稞","01";"小麦","02";"饲料","03";"牦牛","04";"乳","05";"羊","06";"猪","07";"鸡","08";"蜂","09";"鱼虾","10";"藏药","11";"茶","12";"葡萄","13";"苹果","14";"猕猴桃","15";"设施农业","16";"乡村旅游","17";"商贸流通","18";"其他","19"},2,FALSE)&TEXT(COUNTIF($P$5:P6,P6),"000") -> 540423201319002 | B6: 林芝 | C6: 墨脱 | D6: {=INDEX(附件2!$D:$D,MATCH(E6,附件2!$E:$E,0))} -> 2013 | E6: 加热萨乡加热萨村木碗加工项目（第一批） | F6: 加热萨乡 | G6: 加热萨村 | H6: 购置相关加工机械，新建砖混木制结构厂房100平方米。 | I6: =J6+K6 -> 50 | J6: =VLOOKUP(E6,附件2!$E$9:$I$410,5,0)/10000 -> 45 | K6: =VLOOKUP(E6,附件2!E:AF,28,0)/10000 -> 5 | L6: =M6+N6 -> 45 | M6: =VLOOKUP(E6,附件2!$E:$BE,30,0)/10000 -> 45 | N6: =VLOOKUP(E6,附件2!$E:$BE,53,0)/10000 -> 0 | O6: 经营类 | P6: 其他 | Q6: 巩固 | R6: 调整 | S6: 否 | T6: - | U6: - | V6: - | W6: - | X6: - | Y6: - | Z6: - | AA6: - | AB6: 0 | AC6: 墨脱县农业农村局 | AD6: =VLOOKUP(E:E,'附件5-1'!D:P,8,FALSE) -> 加热萨村股份经济合作社 | AE6: 上三乡搬迁调整项目 | AG6: =D6 -> 2013 | AH6: =A6 -> 540423201319002
A7: =540423&D7&VLOOKUP(P7,{"青稞","01";"小麦","02";"饲料","03";"牦牛","04";"乳","05";"羊","06";"猪","07";"鸡","08";"蜂","09";"鱼虾","10";"藏药","11";"茶","12";"葡萄","13";"苹果","14";"猕猴桃","15";"设施农业","16";"乡村旅游","17";"商贸流通","18";"其他","19"},2,FALSE)&TEXT(COUNTIF($P$5:P7,P7),"000") -> 540423201317001 | B7: 林芝 | C7: 墨脱 | D7: {=INDEX(附件2!$D:$D,MATCH(E7,附件2!$E:$E,0))} -> 2013 | E7: 德兴乡德兴村嘎兴农家乐项目（第二批） | F7: 德兴乡 | G7: 德兴村 | H7: 新建砖混结构100平方米农家屋，购置农家屋所需藏式床、桌椅共85张及相关附属配套 | I7: =J7+K7 -> 45 | J7: =VLOOKUP(E7,附件2!$E$9:$I$410,5,0)/10000 -> 40 | K7: =VLOOKUP(E7,附件2!E:AF,28,0)/10000 -> 5 | L7: =M7+N7 -> 40 | M7: =VLOOKUP(E7,附件2!$E:$BE,30,0)/10000 -> 40 | N7: =VLOOKUP(E7,附件2!$E:$BE,53,0)/10000 -> 0 | O7: 经营类 | P7: 乡村旅游 | Q7: 巩固 | R7: 巩固 | S7: 是 | T7: 委托运营 | U7: 个体工商户 | V7: 次仁玉珍 | W7: 是 | X7: 2026.06 | Y7: 1年 | Z7: 租赁内容：1.房屋坐落:墨脱县德兴乡德兴村2组(德兴党校旁)。2.房屋结构及面积:该房屋为木制结构，共一层，房屋建筑面积约160平方米，院落面积约260平方米。 租赁用途：自住及合法合规经营使用。 | AA7: 有情况说明，有现场照片。 德兴德兴村分红情况： 2026年度分红：两次分红总金额为130万元，覆盖376人，于2026年1月29日发放。 | AB7: 0 | AC7: 墨脱县农业农村局 | AD7: =VLOOKUP(E:E,'附件5-1'!D:P,8,FALSE) -> 德兴村股份经济合作社 | AG7: =D7 -> 2013 | AH7: =A7 -> 540423201317001
A8: =540423&D8&VLOOKUP(P8,{"青稞","01";"小麦","02";"饲料","03";"牦牛","04";"乳","05";"羊","06";"猪","07";"鸡","08";"蜂","09";"鱼虾","10";"藏药","11";"茶","12";"葡萄","13";"苹果","14";"猕猴桃","15";"设施农业","16";"乡村旅游","17";"商贸流通","18";"其他","19"},2,FALSE)&TEXT(COUNTIF($P$5:P8,P8),"000") -> 540423201319003 | B8: 林芝 | C8: 墨脱 | D8: {=INDEX(附件2!$D:$D,MATCH(E8,附件2!$E:$E,0))} -> 2013 | E8: 背崩乡阿苍村馒头加工点项目（财政专项扶持） | F8: 背崩乡 | G8: 阿苍村 | H8: 新建房屋180平方米、购置制作馒头所需设备、购买必备家具 | I8: =J8+K8 -> 49 | J8: =VLOOKUP(E8,附件2!$E$9:$I$410,5,0)/10000 -> 25 | K8: =VLOOKUP(E8,附件2!E:AF,28,0)/10000 -> 24 | L8: =M8+N8 -> 25 | M8: =VLOOKUP(E8,附件2!$E:$BE,30,0)/10000 -> 25 | N8: =VLOOKUP(E8,附件2!$E:$BE,53,0)/10000 -> 0 | O8: 经营类 | P8: 其他 | Q8: 巩固 | R8: 巩固 | S8: 是 | T8: 委托运营 | U8: 个体工商户 | V8: 梁国亮 | W8: 是 | X8: 2026.06 | Y8: 2年 | Z8: 租赁内容：坐落于背崩乡主干道旁，背崩村154号，建筑面积200平方米商铺。 租赁用途：餐饮住宿服务。 | AA8: 有现场照片，有情况说明。 背崩乡阿苍村分红情况： 2021年年度分红：该村以采购藏式家具共计30万元进行分红，于2021年5月25日。 | AB8: 0 | AC8: 墨脱县农业农村局 | AD8: =VLOOKUP(E:E,'附件5-1'!D:P,8,FALSE) -> 阿苍村股份经济合作社 | AG8: =D8 -> 2013 | AH8: =A8 -> 540423201319003
A9: =540423&D9&VLOOKUP(P9,{"青稞","01";"小麦","02";"饲料","03";"牦牛","04";"乳","05";"羊","06";"猪","07";"鸡","08";"蜂","09";"鱼虾","10";"藏药","11";"茶","12";"葡萄","13";"苹果","14";"猕猴桃","15";"设施农业","16";"乡村旅游","17";"商贸流通","18";"其他","19"},2,FALSE)&TEXT(COUNTIF($P$5:P9,P9),"000") -> 540423201316001 | B9: 林芝 | C9: 墨脱 | D9: {=INDEX(附件2!$D:$D,MATCH(E9,附件2!$E:$E,0))} -> 2013 | E9: 墨脱镇亚让村香椿种植项目（财政专项扶持） | F9: 墨脱镇 | G9: 亚让村 | H9: 新开发香椿种植基地10亩，购置香椿树苗6万株 | I9: =J9+K9 -> 17 | J9: =VLOOKUP(E9,附件2!$E$9:$I$410,5,0)/10000 -> 15 | K9: =VLOOKUP(E9,附件2!E:AF,28,0)/10000 -> 2 | L9: =M9+N9 -> 15 | M9: =VLOOKUP(E9,附件2!$E:$BE,30,0)/10000 -> 15 | N9: =VLOOKUP(E9,附件2!$E:$BE,53,0)/10000 -> 0 | O9: 经营类 | P9: 设施农业 | Q9: 巩固 | R9: 调整 | S9: 否 | T9: - | U9: - | V9: - | W9: - | X9: - | Y9: - | Z9: - | AA9: - | AB9: 0 | AC9: 墨脱县农业农村局 | AD9: =VLOOKUP(E:E,'附件5-1'!D:P,8,FALSE) -> 亚让村股份经济合作社 | AG9: =D9 -> 2013 | AH9: =A9 -> 540423201316001
A10: =540423&D10&VLOOKUP(P10,{"青稞","01";"小麦","02";"饲料","03";"牦牛","04";"乳","05";"羊","06";"猪","07";"鸡","08";"蜂","09";"鱼虾","10";"藏药","11";"茶","12";"葡萄","13";"苹果","14";"猕猴桃","15";"设施农业","16";"乡村旅游","17";"商贸流通","18";"其他","19"},2,FALSE)&TEXT(COUNTIF($P$5:P10,P10),"000") -> 540423201316002 | B10: 林芝 | C10: 墨脱 | D10: {=INDEX(附件2!$D:$D,MATCH(E10,附件2!$E:$E,0))} -> 2013 | E10: 帮辛乡根登村蔬菜大棚项目（财政专项扶持） | F10: 帮辛乡 | G10: 根登村 | H10: 在5户低收入户房前屋后修建5座大棚，每座占地面积10平方米，共计50平方米 | I10: =J10+K10 -> 22 | J10: =VLOOKUP(E10,附件2!$E$9:$I$410,5,0)/10000 -> 20 | K10: =VLOOKUP(E10,附件2!E:AF,28,0)/10000 -> 2 | L10: =M10+N10 -> 22 | M10: =VLOOKUP(E10,附件2!$E:$BE,30,0)/10000 -> 20 | N10: =VLOOKUP(E10,附件2!$E:$BE,53,0)/10000 -> 2 | O10: 经营类 | P10: 设施农业 | Q10: 巩固 | R10: 调整 | S10: 否 | T10: - | U10: - | V10: - | W10: - | X10: - | Y10: - | Z10: - | AA10: - | AB10: 0 | AC10: 墨脱县农业农村局 | AD10: =VLOOKUP(E:E,'附件5-1'!D:P,8,FALSE) -> 根登村股份经济合作社 | AE10: 上三乡搬迁调整项目 | AG10: =D10 -> 2013 | AH10: =A10 -> 540423201316002
A11: =540423&D11&VLOOKUP(P11,{"青稞","01";"小麦","02";"饲料","03";"牦牛","04";"乳","05";"羊","06";"猪","07";"鸡","08";"蜂","09";"鱼虾","10";"藏药","11";"茶","12";"葡萄","13";"苹果","14";"猕猴桃","15";"设施农业","16";"乡村旅游","17";"商贸流通","18";"其他","19"},2,FALSE)&TEXT(COUNTIF($P$5:P11,P11),"000") -> 540423201319004 | B11: 林芝 | C11: 墨脱 | D11: {=INDEX(附件2!$D:$D,MATCH(E11,附件2!$E:$E,0))} -> 2013 | E11: 帮辛乡西登村石锅加工项目（第三批） | F11: 帮辛乡 | G11: 西登村 | H11: 新建一栋150平方米加工厂房、购置切割机、发电机、抛光机的工具 | I11: =J11+K11 -> 55 | J11: =VLOOKUP(E11,附件2!$E$9:$I$410,5,0)/10000 -> 50 | K11: =VLOOKUP(E11,附件2!E:AF,28,0)/10000 -> 5 | L11: =M11+N11 -> 55 | M11: =VLOOKUP(E11,附件2!$E:$BE,30,0)/10000 -> 50 | N11: =VLOOKUP(E11,附件2!$E:$BE,53,0)/10000 -> 5 | O11: 经营类 | P11: 其他 | Q11: 巩固 | R11: 调整 | S11: 否 | T11: - | U11: - | V11: - | W11: - | X11: - | Y11: - | Z11: - | AA11: - | AB11: 0 | AC11: 墨脱县农业农村局 | AD11: =VLOOKUP(E:E,'附件5-1'!D:P,8,FALSE) -> 西登村股份经济合作社 | AE11: 上三乡搬迁调整项目 | AG11: =D11 -> 2013 | AH11: =A11 -> 540423201319004
A12: =540423&D12&VLOOKUP(P12,{"青稞","01";"小麦","02";"饲料","03";"牦牛","04";"乳","05";"羊","06";"猪","07";"鸡","08";"蜂","09";"鱼虾","10";"藏药","11";"茶","12";"葡萄","13";"苹果","14";"猕猴桃","15";"设施农业","16";"乡村旅游","17";"商贸流通","18";"其他","19"},2,FALSE)&TEXT(COUNTIF($P$5:P12,P12),"000") -> 540423201317002 | B12: 林芝 | C12: 墨脱 | D12: {=INDEX(附件2!$D:$D,MATCH(E12,附件2!$E:$E,0))} -> 2013 | E12: 背崩乡地东村汗密农家乐项目（第三批） | F12: 背崩乡 | G12: 地东村 | H12: 修建一栋200平方米农家乐，购买家具等附属设施 | I12: =J12+K12 -> 51 | J12: =VLOOKUP(E12,附件2!$E$9:$I$410,5,0)/10000 -> 45 | K12: =VLOOKUP(E12,附件2!E:AF,28,0)/10000 -> 6 | L12: =M12+N12 -> 45 | M12: =VLOOKUP(E12,附件2!$E:$BE,30,0)/10000 -> 45 | N12: =VLOOKUP(E12,附件2!$E:$BE,53,0)/10000 -> 0 | O12: 经营类 | P12: 乡村旅游 | Q12: 巩固 | R12: 调整 | S12: 否 | T12: - | U12: - | V12: - | W12: - | X12: - | Y12: - | Z12: - | AA12: - | AB12: 0 | AC12: 墨脱县农业农村局 | AD12: =VLOOKUP(E:E,'附件5-1'!D:P,8,FALSE) -> 地东村股份经济合作社 | AG12: =D12 -> 2013 | AH12: =A12 -> 540423201317002
A13: =540423&D13&VLOOKUP(P13,{"青稞","01";"小麦","02";"饲料","03";"牦牛","04";"乳","05";"羊","06";"猪","07";"鸡","08";"蜂","09";"鱼虾","10";"藏药","11";"茶","12";"葡萄","13";"苹果","14";"猕猴桃","15";"设施农业","16";"乡村旅游","17";"商贸流通","18";"其他","19"},2,FALSE)&TEXT(COUNTIF($P$5:P13,P13),"000") -> 540423201317003 | B13: 林芝 | C13: 墨脱 | D13: {=INDEX(附件2!$D:$D,MATCH(E13,附件2!$E:$E,0))} -> 2013 | E13: 德兴乡荷扎村农家乐项目（第三批） | F13: 德兴乡 | G13: 荷扎村 | H13: 新建200平方米农家乐 ，采购藏式床 、藏式桌、椅子、太阳能热水器 、42寸电视机 、冰柜 、厨具等。 | I13: =J13+K13 -> 51 | J13: =VLOOKUP(E13,附件2!$E$9:$I$410,5,0)/10000 -> 45 | K13: =VLOOKUP(E13,附件2!E:AF,28,0)/10000 -> 6 | L13: =M13+N13 -> 45 | M13: =VLOOKUP(E13,附件2!$E:$BE,30,0)/10000 -> 45 | N13: =VLOOKUP(E13,附件2!$E:$BE,53,0)/10000 -> 0 | O13: 经营类 | P13: 乡村旅游 | Q13: 巩固 | R13: 调整 | S13: 是 | T13: 委托运营 | U13: 私企 | V13: 西藏春天乡村文化旅游有限公司 | W13: 是 | X13: 2023.11 | Y13: 15年 | Z13: - | AA13: 130000 | AB13: 0 | AC13: 墨脱县农业农村局 | AD13: =VLOOKUP(E:E,'附件5-1'!D:P,8,FALSE) -> 荷扎村股份经济合作社 | AG13: =D13 -> 2013 | AH13: =A13 -> 540423201317003
A14: =540423&D14&VLOOKUP(P14,{"青稞","01";"小麦","02";"饲料","03";"牦牛","04";"乳","05";"羊","06";"猪","07";"鸡","08";"蜂","09";"鱼虾","10";"藏药","11";"茶","12";"葡萄","13";"苹果","14";"猕猴桃","15";"设施农业","16";"乡村旅游","17";"商贸流通","18";"其他","19"},2,FALSE)&TEXT(COUNTIF($P$5:P14,P14),"000") -> 540423201317004 | B14: 林芝 | C14: 墨脱 | D14: {=INDEX(附件2!$D:$D,MATCH(E14,附件2!$E:$E,0))} -> 2013 | E14: 墨脱镇玛迪村农家乐项目（第三批） | F14: 墨脱镇 | G14: 玛迪村 | H14: 新建农家乐100平方米、购买家具和其他附属设施 | I14: =J14+K14 -> 40 | J14: =VLOOKUP(E14,附件2!$E$9:$I$410,5,0)/10000 -> 35 | K14: =VLOOKUP(E14,附件2!E:AF,28,0)/10000 -> 5 | L14: =M14+N14 -> 35 | M14: =VLOOKUP(E14,附件2!$E:$BE,30,0)/10000 -> 35 | N14: =VLOOKUP(E14,附件2!$E:$BE,53,0)/10000 -> 0 | O14: 经营类 | P14: 乡村旅游 | Q14: 巩固 | R14: 升级 | AA14: 2022年度分红总额64913.00元。2023年度分红总额45870.00元。2025年度分红总额29700.00元，村集体经济总额70%用于分红覆盖139人。 | AB14: 0 | AC14: 墨脱县农业农村局 | AD14: =VLOOKUP(E:E,'附件5-1'!D:P,8,FALSE) -> 玛迪村股份经济合作社 | AG14: =D14 -> 2013 | AH14: =A14 -> 540423201317004
A15: =540423&D15&VLOOKUP(P15,{"青稞","01";"小麦","02";"饲料","03";"牦牛","04";"乳","05";"羊","06";"猪","07";"鸡","08";"蜂","09";"鱼虾","10";"藏药","11";"茶","12";"葡萄","13";"苹果","14";"猕猴桃","15";"设施农业","16";"乡村旅游","17";"商贸流通","18";"其他","19"},2,FALSE)&TEXT(COUNTIF($P$5:P15,P15),"000") -> 540423201316003 | B15: 林芝 | C15: 墨脱 | D15: {=INDEX(附件2!$D:$D,MATCH(E15,附件2!$E:$E,0))} -> 2013 | E15: 达木乡达木村小杂粮种植项目（整乡推进） | F15: 甘登乡 | G15: 达木村 | H15: 将现有的200亩玉米耕地改造成小杂粮种植基地，其中鸡爪谷100亩，红米100亩 | I15: =J15+K15 -> 40 | J15: =VLOOKUP(E15,附件2!$E$9:$I$410,5,0)/10000 -> 35 | K15: =VLOOKUP(E15,附件2!E:AF,28,0)/10000 -> 5 | L15: =M15+N15 -> 40 | M15: =VLOOKUP(E15,附件2!$E:$BE,30,0)/10000 -> 35 | N15: =VLOOKUP(E15,附件2!$E:$BE,53,0)/10000 -> 5 | O15: 经营类 | P15: 设施农业 | Q15: 巩固 | R15: 调整 | S15: - | T15: - | U15: - | V15: - | W15: - | X15: - | Y15: - | Z15: - | AA15: - | AB15: - | AC15: - | AD15: =VLOOKUP(E:E,'附件5-1'!D:P,8,FALSE) -> 达木村股份经济合作社 | AE15: 上三乡搬迁调整项目（整村搬迁） | AG15: =D15 -> 2013 | AH15: =A15 -> 540423201316003
A16: =540423&D16&VLOOKUP(P16,{"青稞","01";"小麦","02";"饲料","03";"牦牛","04";"乳","05";"羊","06";"猪","07";"鸡","08";"蜂","09";"鱼虾","10";"藏药","11";"茶","12";"葡萄","13";"苹果","14";"猕猴桃","15";"设施农业","16";"乡村旅游","17";"商贸流通","18";"其他","19"},2,FALSE)&TEXT(COUNTIF($P$5:P16,P16),"000") -> 540423201317005 | B16: 林芝 | C16: 墨脱 | D16: {=INDEX(附件2!$D:$D,MATCH(E16,附件2!$E:$E,0))} -> 2013 | E16: 达木乡卡布村农家乐建设项目（整乡推进） | F16: 达木乡 | G16: 卡布村 | H16: 新建农家屋200平方米、购置彰显珞巴民族特色的家具所需家具、床及桌椅各购置80张及其他配套设施 | I16: =J16+K16 -> 55 | J16: =VLOOKUP(E16,附件2!$E$9:$I$410,5,0)/10000 -> 50 | K16: =VLOOKUP(E16,附件2!E:AF,28,0)/10000 -> 5 | L16: =M16+N16 -> 55 | M16: =VLOOKUP(E16,附件2!$E:$BE,30,0)/10000 -> 50 | N16: =VLOOKUP(E16,附件2!$E:$BE,53,0)/10000 -> 5 | O16: 经营类 | P16: 乡村旅游 | Q16: 巩固 | R16: 巩固 | S16: 是 | T16: 委托运营 | U16: 个体工商户 | V16: 张兵 | W16: 是 | X16: 2025.05 | Y16: 2年 | Z16: 租赁内容：墨脱县达木珞巴民乡卡布村，建筑面积400平方米房屋。 租赁用途：用于经营农家乐。 | AA16: 有情况说明。有现场照片。 达木乡卡布村暂未分红，租金收益等均在村集体账上。 | AB16: 0 | AC16: 墨脱县农业农村局 | AD16: =VLOOKUP(E:E,'附件5-1'!D:P,8,FALSE) -> 卡布村股份经济合作社 | AG16: =D16 -> 2013 | AH16: =A16 -> 540423201317005
A17: =540423&D17&VLOOKUP(P17,{"青稞","01";"小麦","02";"饲料","03";"牦牛","04";"乳","05";"羊","06";"猪","07";"鸡","08";"蜂","09";"鱼虾","10";"藏药","11";"茶","12";"葡萄","13";"苹果","14";"猕猴桃","15";"设施农业","16";"乡村旅游","17";"商贸流通","18";"其他","19"},2,FALSE)&TEXT(COUNTIF($P$5:P17,P17),"000") -> 540423201417006 | B17: 林芝 | C17: 墨脱 | D17: {=INDEX(附件2!$D:$D,MATCH(E17,附件2!$E:$E,0))} -> 2014 | E17: 墨脱镇仁青崩自然村农家乐项目 | F17: 墨脱镇 | G17: 墨脱村 | H17: 新建民宿特色仿原始的竹、木结构农家屋200平方米，床、桌椅各购置80张及其他配套设施；村寨内开设三条宽为2米的硬化路600米；修建民宿特色的山庄大门 | I17: =J17+K17 -> 50 | J17: =VLOOKUP(E17,附件2!$E$9:$I$410,5,0)/10000 -> 45 | K17: =VLOOKUP(E17,附件2!E:AF,28,0)/10000 -> 5 | L17: =M17+N17 -> 45 | M17: =VLOOKUP(E17,附件2!$E:$BE,30,0)/10000 -> 45 | N17: =VLOOKUP(E17,附件2!$E:$BE,53,0)/10000 -> 0 | O17: 经营类 | P17: 乡村旅游 | Q17: 巩固 | R17: 调整 | S17: 否 | T17: - | U17: - | V17: - | W17: - | X17: - | Y17: - | Z17: - | AA17: - | AB17: 0 | AC17: 墨脱县农业农村局 | AD17: =VLOOKUP(E:E,'附件5-1'!D:P,8,FALSE) -> 墨脱村股份经济合作社 | AG17: =D17 -> 2014 | AH17: =A17 -> 540423201417006
A18: =540423&D18&VLOOKUP(P18,{"青稞","01";"小麦","02";"饲料","03";"牦牛","04";"乳","05";"羊","06";"猪","07";"鸡","08";"蜂","09";"鱼虾","10";"藏药","11";"茶","12";"葡萄","13";"苹果","14";"猕猴桃","15";"设施农业","16";"乡村旅游","17";"商贸流通","18";"其他","19"},2,FALSE)&TEXT(COUNTIF($P$5:P18,P18),"000") -> 540423201417007 | B18: 林芝 | C18: 墨脱 | D18: {=INDEX(附件2!$D:$D,MATCH(E18,附件2!$E:$E,0))} -> 2014 | E18: 格当乡格当村农家乐项目 | F18: 格当乡 | G18: 格当村 | H18: 新建农家乐200平方米，藏式床、藏式桌椅各购置80张及其他配套设施 | I18: =J18+K18 -> 50 | J18: =VLOOKUP(E18,附件2!$E$9:$I$410,5,0)/10000 -> 45 | K18: =VLOOKUP(E18,附件2!E:AF,28,0)/10000 -> 5 | L18: =M18+N18 -> 50 | M18: =VLOOKUP(E18,附件2!$E:$BE,30,0)/10000 -> 45 | N18: =VLOOKUP(E18,附件2!$E:$BE,53,0)/10000 -> 5 | O18: 经营类 | P18: 乡村旅游 | Q18: 巩固 | R18: 盘活 | S18: 否 | T18: - | U18: - | V18: - | W18: - | X18: - | Y18: - | Z18: - | AA18: - | AB18: 0 | AC18: 墨脱县农业农村局 | AD18: =VLOOKUP(E:E,'附件5-1'!D:P,8,FALSE) -> 格当村股份经济合作社 | AE18: 拟申报2027年乡村产业帮扶资金，用于农家乐提质升级，项目改造完成后将继续对外出租经营 | AG18: =D18 -> 2014 | AH18: =A18 -> 540423201417007
A19: =540423&D19&VLOOKUP(P19,{"青稞","01";"小麦","02";"饲料","03";"牦牛","04";"乳","05";"羊","06";"猪","07";"鸡","08";"蜂","09";"鱼虾","10";"藏药","11";"茶","12";"葡萄","13";"苹果","14";"猕猴桃","15";"设施农业","16";"乡村旅游","17";"商贸流通","18";"其他","19"},2,FALSE)&TEXT(COUNTIF($P$5:P19,P19),"000") -> 540423201417008 | B19: 林芝 | C19: 墨脱 | D19: {=INDEX(附件2!$D:$D,MATCH(E19,附件2!$E:$E,0))} -> 2014 | E19: 达木乡珠村珞巴民俗农家乐项目 | F19: 达木乡 | G19: 珠村 | H19: 新建农家屋200平方米，购置彰显珞巴民俗农家乐特色的农家屋所需家具床及桌椅共计80张及其他配套设施 | I19: =J19+K19 -> 50 | J19: =VLOOKUP(E19,附件2!$E$9:$I$410,5,0)/10000 -> 45 | K19: =VLOOKUP(E19,附件2!E:AF,28,0)/10000 -> 5 | L19: =M19+N19 -> 49.99975 | M19: =VLOOKUP(E19,附件2!$E:$BE,30,0)/10000 -> 45 | N19: =VLOOKUP(E19,附件2!$E:$BE,53,0)/10000 -> 4.99975 | O19: 经营类 | P19: 乡村旅游 | Q19: 巩固 | R19: 调整 | S19: 是 | T19: 委托运营 | U19: 个体工商户 | V19: 张正军 | W19: 是 | X19: 2025.08 | Y19: 6年 | Z19: 租赁内容：农家乐与新村蔬菜大棚一起配套出租。 租赁用途：老村农家乐用于居住和堆放物品。 | AA19: 有情况说明。有现场盘点照片。 珠村暂未分红，租金收益统一留存村集体账户。 | AB19: 0 | AC19: 墨脱县农业农村局 | AD19: =VLOOKUP(E:E,'附件5-1'!D:P,8,FALSE) -> 珠村股份经济合作社 | AE19: 上三乡搬迁调整项目（整村搬迁） | AG19: =D19 -> 2014 | AH19: =A19 -> 540423201417008
A20: =540423&D20&VLOOKUP(P20,{"青稞","01";"小麦","02";"饲料","03";"牦牛","04";"乳","05";"羊","06";"猪","07";"鸡","08";"蜂","09";"鱼虾","10";"藏药","11";"茶","12";"葡萄","13";"苹果","14";"猕猴桃","15";"设施农业","16";"乡村旅游","17";"商贸流通","18";"其他","19"},2,FALSE)&TEXT(COUNTIF($P$5:P20,P20),"000") -> 540423201413001 | B20: 林芝 | C20: 墨脱 | D20: {=INDEX(附件2!$D:$D,MATCH(E20,附件2!$E:$E,0))} -> 2014 | E20: 帮兴乡帮辛村果园建设项目 | F20: 帮辛乡 | G20: 帮辛村 | H20: 新建枇杷种植 每亩148株共15亩，葡萄种植 每亩40棵共15亩 | I20: =J20+K20 -> 27 | J20: =VLOOKUP(E20,附件2!$E$9:$I$410,5,0)/10000 -> 23 | K20: =VLOOKUP(E20,附件2!E:AF,28,0)/10000 -> 4 | L20: =M20+N20 -> 27 | M20: =VLOOKUP(E20,附件2!$E:$BE,30,0)/10000 -> 23 | N20: =VLOOKUP(E20,附件2!$E:$BE,53,0)/10000 -> 4 | O20: 经营类 | P20: 葡萄 | Q20: 调整 | R20: 调整 | S20: 否 | T20: - | U20: - | V20: - | W20: - | X20: - | Y20: - | Z20: - | AA20: - | AB20: 0 | AC20: 墨脱县农业农村局 | AD20: =VLOOKUP(E:E,'附件5-1'!D:P,8,FALSE) -> 帮辛村股份经济合作社 | AE20: 上三乡搬迁调整项目 | AG20: =D20 -> 2014 | AH20: =A20 -> 540423201413001
A21: =540423&D21&VLOOKUP(P21,{"青稞","01";"小麦","02";"饲料","03";"牦牛","04";"乳","05";"羊","06";"猪","07";"鸡","08";"蜂","09";"鱼虾","10";"藏药","11";"茶","12";"葡萄","13";"苹果","14";"猕猴桃","15";"设施农业","16";"乡村旅游","17";"商贸流通","18";"其他","19"},2,FALSE)&TEXT(COUNTIF($P$5:P21,P21),"000") -> 540423201406001 | B21: 林芝 | C21: 墨脱 | D21: {=INDEX(附件2!$D:$D,MATCH(E21,附件2!$E:$E,0))} -> 2014 | E21: 德兴乡易贡白村山羊养殖项目 | F21: 德兴乡 | G21: 易贡白村 | H21: 新建100平方米羊圈，购买山羊70头 | I21: =J21+K21 -> 40 | J21: =VLOOKUP(E21,附件2!$E$9:$I$410,5,0)/10000 -> 38 | K21: =VLOOKUP(E21,附件2!E:AF,28,0)/10000 -> 2 | L21: =M21+N21 -> 40 | M21: =VLOOKUP(E21,附件2!$E:$BE,30,0)/10000 -> 38 | N21: =VLOOKUP(E21,附件2!$E:$BE,53,0)/10000 -> 2 | O21: 经营类 | P21: 羊 | Q21: 调整 | R21: 调整 | S21: 是 | T21: 委托运营 | U21: 私企 | V21: 西藏圣华耀安酒店管理有限公司 | W21: 是 | X21: 2025.04 | Y21: 10年 | Z21: 租赁内容：易贡白村养羊基地 租赁用途：采用出租的方式将其名下养羊基地及其附属建筑、措登湖流转给乙方用于承包经营，乙方可在养羊基地羊圈上进行改造升级，用于运营。 | AB21: 0 | AC21: 墨脱县农业农村局 | AD21: =VLOOKUP(E:E,'附件5-1'!D:P,8,FALSE) -> 易贡白村股份经济合作社 | AG21: =D21 -> 2014 | AH21: =A21 -> 540423201406001
A22: =540423&D22&VLOOKUP(P22,{"青稞","01";"小麦","02";"饲料","03";"牦牛","04";"乳","05";"羊","06";"猪","07";"鸡","08";"蜂","09";"鱼虾","10";"藏药","11";"茶","12";"葡萄","13";"苹果","14";"猕猴桃","15";"设施农业","16";"乡村旅游","17";"商贸流通","18";"其他","19"},2,FALSE)&TEXT(COUNTIF($P$5:P22,P22),"000") -> 540423201417009 | B22: 林芝 | C22: 墨脱 | D22: {=INDEX(附件2!$D:$D,MATCH(E22,附件2!$E:$E,0))} -> 2014 | E22: 墨脱镇巴日村农家乐项目 | F22: 墨脱镇 | G22: 巴日村 | H22: 新建农家乐200平方米，藏式床、藏式桌椅各购置80张及其他配套设施 | I22: =J22+K22 -> 50 | J22: =VLOOKUP(E22,附件2!$E$9:$I$410,5,0)/10000 -> 45 | K22: =VLOOKUP(E22,附件2!E:AF,28,0)/10000 -> 5 | L22: =M22+N22 -> 50 | M22: =VLOOKUP(E22,附件2!$E:$BE,30,0)/10000 -> 45 | N22: =VLOOKUP(E22,附件2!$E:$BE,53,0)/10000 -> 5 | O22: 经营类 | P22: 乡村旅游 | Q22: 巩固 | R22: 升级 | S22: 是 | T22: 委托运营 | U22: 私企 | V22: 墨脱县门珞秘境旅游开发有限公司 | W22: 是 | X22: 2021.11 | Y22: 10年 | Z22: 租赁内容：巴日村农家乐； 租赁用途：有权对农家乐进行改造升级，用于运营。 | AA22: 有现场照片。 墨脱镇巴日村分红情况： 该项目2022年分红总计10200元，其中2022年租金分红总额9300元，覆盖23户93人，慰问老人、建档立卡及生活困难村民共计900元，均于2022年1月29日发放。 | AB22: 0 | AC22: 墨脱县农业农村局 | AD22: =VLOOKUP(E:E,'附件5-1'!D:P,8,FALSE) -> 巴日村股份经济合作社 | AG22: =D22 -> 2014 | AH22: =A22 -> 540423201417009
A23: =540423&D23&VLOOKUP(P23,{"青稞","01";"小麦","02";"饲料","03";"牦牛","04";"乳","05";"羊","06";"猪","07";"鸡","08";"蜂","09";"鱼虾","10";"藏药","11";"茶","12";"葡萄","13";"苹果","14";"猕猴桃","15";"设施农业","16";"乡村旅游","17";"商贸流通","18";"其他","19"},2,FALSE)&TEXT(COUNTIF($P$5:P23,P23),"000") -> 540423201407001 | B23: 林芝 | C23: 墨脱 | D23: {=INDEX(附件2!$D:$D,MATCH(E23,附件2!$E:$E,0))} -> 2014 | E23: 墨脱县帮辛乡帮辛村养猪项目 | F23: 帮辛乡 | G23: 帮辛村 | H23: 新修猪圈10个，每座15平米，购买10头母猪、6头种猪、30头仔猪 | I23: =J23+K23 -> 43 | J23: =VLOOKUP(E23,附件2!$E$9:$I$410,5,0)/10000 -> 41 | K23: =VLOOKUP(E23,附件2!E:AF,28,0)/10000 -> 2 | L23: =M23+N23 -> 39.975 | M23: =VLOOKUP(E23,附件2!$E:$BE,30,0)/10000 -> 39.975 | N23: =VLOOKUP(E23,附件2!$E:$BE,53,0)/10000 -> 0 | O23: 经营类 | P23: 猪 | Q23: 巩固 | R23: 调整 | S23: 否 | T23: - | U23: - | V23: - | W23: - | X23: - | Y23: - | Z23: - | AA23: - | AB23: 0 | AC23: 墨脱县农业农村局 | AD23: =VLOOKUP(E:E,'附件5-1'!D:P,8,FALSE) -> 帮辛村股份经济合作社 | AE23: 上三乡搬迁调整项目 | AG23: =D23 -> 2014 | AH23: =A23 -> 540423201407001
A24: =540423&D24&VLOOKUP(P24,{"青稞","01";"小麦","02";"饲料","03";"牦牛","04";"乳","05";"羊","06";"猪","07";"鸡","08";"蜂","09";"鱼虾","10";"藏药","11";"茶","12";"葡萄","13";"苹果","14";"猕猴桃","15";"设施农业","16";"乡村旅游","17";"商贸流通","18";"其他","19"},2,FALSE)&TEXT(COUNTIF($P$5:P24,P24),"000") -> 540423201419005 | B24: 林芝 | C24: 墨脱 | D24: {=INDEX(附件2!$D:$D,MATCH(E24,附件2!$E:$E,0))} -> 2014 | E24: 墨脱镇墨脱村扶贫洗车场建设项目 | F24: 墨脱镇 | G24: 墨脱村 | H24: 购置单级单吸卧式离心泵一台；控制箱两台；电缆(25x1)100米;洗车设备一套:搭建占地面积20平方米的简易木板房;新修占地面积40平方米的洗车场地(水泥地面) | I24: =J24+K24 -> 27 | J24: =VLOOKUP(E24,附件2!$E$9:$I$410,5,0)/10000 -> 25 | K24: =VLOOKUP(E24,附件2!E:AF,28,0)/10000 -> 2 | L24: =M24+N24 -> 25 | M24: =VLOOKUP(E24,附件2!$E:$BE,30,0)/10000 -> 25 | N24: =VLOOKUP(E24,附件2!$E:$BE,53,0)/10000 -> 0 | O24: 经营类 | P24: 其他 | Q24: 巩固 | R24: 调整 | S24: 否 | T24: - | U24: - | V24: - | W24: - | X24: - | Y24: - | Z24: - | AA24: - | AB24: 0 | AC24: 墨脱县农业农村局 | AD24: =VLOOKUP(E:E,'附件5-1'!D:P,8,FALSE) -> 墨脱村股份经济合作社 | AG24: =D24 -> 2014 | AH24: =A24 -> 540423201419005
A25: =540423&D25&VLOOKUP(P25,{"青稞","01";"小麦","02";"饲料","03";"牦牛","04";"乳","05";"羊","06";"猪","07";"鸡","08";"蜂","09";"鱼虾","10";"藏药","11";"茶","12";"葡萄","13";"苹果","14";"猕猴桃","15";"设施农业","16";"乡村旅游","17";"商贸流通","18";"其他","19"},2,FALSE)&TEXT(COUNTIF($P$5:P25,P25),"000") -> 540423201419006 | B25: 林芝 | C25: 墨脱 | D25: {=INDEX(附件2!$D:$D,MATCH(E25,附件2!$E:$E,0))} -> 2014 | E25: 墨脱镇玛迪村、米日村，背崩乡巴登村野花椒种植项目 | F25: 墨脱镇、背崩乡 | G25: 玛迪村 米日村 巴登村 | H25: 玛迪村种植花椒20亩、米日村种植花椒20亩，巴登村种植花椒42亩 | I25: =J25+K25 -> 47 | J25: =VLOOKUP(E25,附件2!$E$9:$I$410,5,0)/10000 -> 45 | K25: =VLOOKUP(E25,附件2!E:AF,28,0)/10000 -> 2 | L25: =M25+N25 -> 45 | M25: =VLOOKUP(E25,附件2!$E:$BE,30,0)/10000 -> 45 | N25: =VLOOKUP(E25,附件2!$E:$BE,53,0)/10000 -> 0 | O25: 经营类 | P25: 其他 | Q25: 巩固 | R25: 调整 | S25: 否 | T25: - | U25: - | V25: - | W25: - | X25: - | Y25: - | Z25: - | AA25: - | AB25: 0 | AC25: 墨脱县农业农村局 | AD25: =VLOOKUP(E:E,'附件5-1'!D:P,8,FALSE) -> 玛迪村股份经济合作社 米日村股份经济合作社 巴登村股份经济合作社 | AE25: 上三乡搬迁调整项目（整村搬迁） | AG25: =D25 -> 2014 | AH25: =A25 -> 540423201419006
A26: =540423&D26&VLOOKUP(P26,{"青稞","01";"小麦","02";"饲料","03";"牦牛","04";"乳","05";"羊","06";"猪","07";"鸡","08";"蜂","09";"鱼虾","10";"藏药","11";"茶","12";"葡萄","13";"苹果","14";"猕猴桃","15";"设施农业","16";"乡村旅游","17";"商贸流通","18";"其他","19"},2,FALSE)&TEXT(COUNTIF($P$5:P26,P26),"000") -> 540423201419007 | B26: 林芝 | C26: 墨脱 | D26: {=INDEX(附件2!$D:$D,MATCH(E26,附件2!$E:$E,0))} -> 2014 | E26: 背崩乡格林村梨子种植项目 | F26: 甘登乡 | G26: 格林村 | H26: 种植梨子30亩，购买梨子苗1200株，铁丝网围栏1500米 | I26: =J26+K26 -> 12 | J26: =VLOOKUP(E26,附件2!$E$9:$I$410,5,0)/10000 -> 10 | K26: =VLOOKUP(E26,附件2!E:AF,28,0)/10000 -> 2 | L26: =M26+N26 -> 10 | M26: =VLOOKUP(E26,附件2!$E:$BE,30,0)/10000 -> 10 | N26: =VLOOKUP(E26,附件2!$E:$BE,53,0)/10000 -> 0 | O26: 经营类 | P26: 其他 | Q26: 巩固 | R26: 调整 | S26: 否 | T26: - | U26: - | V26: - | W26: - | X26: - | Y26: - | Z26: - | AA26: - | AB26: 0 | AC26: 墨脱县农业农村局 | AD26: =VLOOKUP(E:E,'附件5-1'!D:P,8,FALSE) -> 格林村股份经济合作社 | AG26: =D26 -> 2014 | AH26: =A26 -> 540423201419007
A27: =540423&D27&VLOOKUP(P27,{"青稞","01";"小麦","02";"饲料","03";"牦牛","04";"乳","05";"羊","06";"猪","07";"鸡","08";"蜂","09";"鱼虾","10";"藏药","11";"茶","12";"葡萄","13";"苹果","14";"猕猴桃","15";"设施农业","16";"乡村旅游","17";"商贸流通","18";"其他","19"},2,FALSE)&TEXT(COUNTIF($P$5:P27,P27),"000") -> 540423201417010 | B27: 林芝 | C27: 墨脱 | D27: {=INDEX(附件2!$D:$D,MATCH(E27,附件2!$E:$E,0))} -> 2014 | E27: 墨脱县低收入户农家乐建设项目 | F27: 德兴乡、甘登乡、背崩乡、达木乡、墨脱镇、格当乡 | G27: 德兴乡文朗村 甘登乡巴登则村 甘登乡那尔东村 背崩乡背崩村 墨脱镇亚东村 达木乡80K波弄贡村 格当乡布龙村 | H27: 新建7栋农家房屋，每栋占地面积200平米。 | I27: =J27+K27 -> 357 | J27: =VLOOKUP(E27,附件2!$E$9:$I$410,5,0)/10000 -> 300 | K27: =VLOOKUP(E27,附件2!E:AF,28,0)/10000 -> 57 | L27: =M27+N27 -> 322.5005 | M27: =VLOOKUP(E27,附件2!$E:$BE,30,0)/10000 -> 300 | N27: =VLOOKUP(E27,附件2!$E:$BE,53,0)/10000 -> 22.5005 | O27: 经营类 | P27: 乡村旅游 | Q27: 巩固 | R27: 巩固 | AB27: 0 | AC27: 墨脱县农业农村局 | AD27: =VLOOKUP(E:E,'附件5-1'!D:P,8,FALSE) -> 背崩村股份经济合作社 亚东村股份经济合作社 那尔东村股份经济合作社 巴登则村股份经济合作社 文郎村股份经济合作社 布龙村股份经济合作社 贡日村股份经济合作社 | AE27: 背崩村（调整） 亚东村（盘活） 那尔东村（调整） 巴登则（调整） 文郎村（巩固） 布龙村（巩固） 贡日村（巩固） | AG27: =D27 -> 2014 | AH27: =A27 -> 540423201417010
A28: =540423&D28&VLOOKUP(P28,{"青稞","01";"小麦","02";"饲料","03";"牦牛","04";"乳","05";"羊","06";"猪","07";"鸡","08";"蜂","09";"鱼虾","10";"藏药","11";"茶","12";"葡萄","13";"苹果","14";"猕猴桃","15";"设施农业","16";"乡村旅游","17";"商贸流通","18";"其他","19"},2,FALSE)&TEXT(COUNTIF($P$5:P28,P28),"000") -> 540423201518001 | B28: 林芝 | C28: 墨脱 | D28: {=INDEX(附件2!$D:$D,MATCH(E28,附件2!$E:$E,0))} -> 2015 | E28: 墨脱县2015年扶贫农家乐项目 | F28: 墨脱县城乡振兴产业有限公司 | G28: 亚东村 | H28: 新建五层框架剪力墙结构农家屋，一层分设服务台、餐厅、厨房和土特产营销中心、休闲区等；二、三、四层为客房，五层为茶园大厅及包间；附属设施包括停车场、围墙 | I28: =J28+K28 -> 1499.84 | J28: =VLOOKUP(E28,附件2!$E$9:$I$410,5,0)/10000 -> 1000 | K28: =VLOOKUP(E28,附件2!E:AF,28,0)/10000 -> 499.84 | L28: =M28+N28 -> 1442.0159 | M28: =VLOOKUP(E28,附件2!$E:$BE,30,0)/10000 -> 1000 | N28: =VLOOKUP(E28,附件2!$E:$BE,53,0)/10000 -> 442.01587 | O28: 经营类 | P28: 商贸流通 | Q28: 巩固 | R28: 巩固 | S28: 是 | T28: 委托运营 | U28: 私企 | V28: 西藏圣华耀安酒店管理有限公司 | W28: 是 | X28: 2023.07 | Y28: 20年 | Z28: 租赁内容：坐落于墨脱县城水仙花路(格拉丹东酒店斜对面)，五层框架剪力墙结构楼房，一层分设服务台、餐厅、厨房和土特产营销中心、休闲区等，二、三、四层为客房，共33间，五层为茶园大厅及包间;附属设施包括停车场、围墙、大门等，建筑面积2980.04平方米。 | AB28: 0 | AC28: 墨脱县农业农村局 | AD28: =VLOOKUP(E:E,'附件5-1'!D:P,8,FALSE) -> 墨脱县城乡振兴产业有限公司 | AG28: =D28 -> 2015 | AH28: =A28 -> 540423201518001
A29: =540423&D29&VLOOKUP(P29,{"青稞","01";"小麦","02";"饲料","03";"牦牛","04";"乳","05";"羊","06";"猪","07";"鸡","08";"蜂","09";"鱼虾","10";"藏药","11";"茶","12";"葡萄","13";"苹果","14";"猕猴桃","15";"设施农业","16";"乡村旅游","17";"商贸流通","18";"其他","19"},2,FALSE)&TEXT(COUNTIF($P$5:P29,P29),"000") -> 540423201516004 | B29: 林芝 | C29: 墨脱 | D29: {=INDEX(附件2!$D:$D,MATCH(E29,附件2!$E:$E,0))} -> 2015 | E29: 墨脱县墨脱镇玛迪村17座蔬菜大棚建设项目 | F29: 墨脱镇 | G29: 玛迪村 | H29: 全钢架拱棚结构大棚17座、PE100管给水管1798米、现浇砼取水口1座、钢筋砼蓄水池30立方米。 | I29: =J29+K29 -> 285 | J29: =VLOOKUP(E29,附件2!$E$9:$I$410,5,0)/10000 -> 190 | K29: =VLOOKUP(E29,附件2!E:AF,28,0)/10000 -> 95 | L29: =M29+N29 -> 285 | M29: =VLOOKUP(E29,附件2!$E:$BE,30,0)/10000 -> 190 | N29: =VLOOKUP(E29,附件2!$E:$BE,53,0)/10000 -> 95 | O29: 经营类 | P29: 设施农业 | Q29: 巩固 | R29: 巩固 | S29: 是 | T29: 委托运营 | U29: 私企 | V29: 四川省中农国优品农业科技有限责任公司 | W29: 是 | X29: 2024.1 | Y29: 10年 | Z29: 租赁用途：住宿、餐饮、休闲娱乐、棋牌等。 | AA29: 有现场照片。 1、墨脱镇玛迪村分红情况： 2022年度分红总额64913.00元。2023年度分红总额45870.00元。2025年度分红总额29700.00元，村集体经济总额70%用于分红覆盖139人。（分红资料被三资审计带走了） | AB29: 0 | AC29: 墨脱县农业农村局 | AD29: =VLOOKUP(E:E,'附件5-1'!D:P,8,FALSE) -> 玛迪村股份经济合作社 | AG29: =D29 -> 2015 | AH29: =A29 -> 540423201516004
A30: =540423&D30&VLOOKUP(P30,{"青稞","01";"小麦","02";"饲料","03";"牦牛","04";"乳","05";"羊","06";"猪","07";"鸡","08";"蜂","09";"鱼虾","10";"藏药","11";"茶","12";"葡萄","13";"苹果","14";"猕猴桃","15";"设施农业","16";"乡村旅游","17";"商贸流通","18";"其他","19"},2,FALSE)&TEXT(COUNTIF($P$5:P30,P30),"000") -> 540423201517011 | B30: 林芝 | C30: 墨脱 | D30: {=INDEX(附件2!$D:$D,MATCH(E30,附件2!$E:$E,0))} -> 2015 | E30: 墨脱镇亚让村农家乐建设项目 | F30: 墨脱镇 | G30: 亚让村 | H30: 新站2座砖混结构，每座古地面积200平方米(分别为:40m餐厅、20m住宿房五间、10m洗手间、30m伙房、20㎡库房），每座农家乐配套2个凉亭 | I30: =J30+K30 -> 220 | J30: =VLOOKUP(E30,附件2!$E$9:$I$410,5,0)/10000 -> 210 | K30: =VLOOKUP(E30,附件2!E:AF,28,0)/10000 -> 10 | L30: =M30+N30 -> 202.82861 | M30: =VLOOKUP(E30,附件2!$E:$BE,30,0)/10000 -> 202.82861 | N30: =VLOOKUP(E30,附件2!$E:$BE,53,0)/10000 -> 0 | O30: 经营类 | P30: 乡村旅游 | Q30: 巩固 | R30: 巩固 | S30: 是 | T30: 委托运营 | U30: 个体工商户 | V30: 唐杰明152302198510120038 | W30: 是 | X30: 2025.01 | Y30: 15年 | Z30: 租赁内容：位于亚让村村集体农家乐及周边院落区域及屋内相应的经营的设备设施； 租赁用途：该农家乐开展经营活动。 | AA30: 有现场照片，有情况说明。 墨脱镇亚让村分红情况：2025年度分红总额27.5万元，每户每人1100元。 | AB30: 0 | AC30: 墨脱县农业农村局 | AD30: =VLOOKUP(E:E,'附件5-1'!D:P,8,FALSE) -> 亚让村股份经济合作社 | AG30: =D30 -> 2015 | AH30: =A30 -> 540423201517011
